BEGIN:VCALENDAR
VERSION:2.0
PRODID:-//Richmond Waldorf School - ECPv6.15.20//NONSGML v1.0//EN
CALSCALE:GREGORIAN
METHOD:PUBLISH
X-WR-CALNAME:Richmond Waldorf School
X-ORIGINAL-URL:https://richmondwaldorf.com
X-WR-CALDESC:Events for Richmond Waldorf School
REFRESH-INTERVAL;VALUE=DURATION:PT1H
X-Robots-Tag:noindex
X-PUBLISHED-TTL:PT1H
BEGIN:VTIMEZONE
TZID:America/New_York
BEGIN:DAYLIGHT
TZOFFSETFROM:-0500
TZOFFSETTO:-0400
TZNAME:EDT
DTSTART:20220313T070000
END:DAYLIGHT
BEGIN:STANDARD
TZOFFSETFROM:-0400
TZOFFSETTO:-0500
TZNAME:EST
DTSTART:20221106T060000
END:STANDARD
BEGIN:DAYLIGHT
TZOFFSETFROM:-0500
TZOFFSETTO:-0400
TZNAME:EDT
DTSTART:20230312T070000
END:DAYLIGHT
BEGIN:STANDARD
TZOFFSETFROM:-0400
TZOFFSETTO:-0500
TZNAME:EST
DTSTART:20231105T060000
END:STANDARD
BEGIN:DAYLIGHT
TZOFFSETFROM:-0500
TZOFFSETTO:-0400
TZNAME:EDT
DTSTART:20240310T070000
END:DAYLIGHT
BEGIN:STANDARD
TZOFFSETFROM:-0400
TZOFFSETTO:-0500
TZNAME:EST
DTSTART:20241103T060000
END:STANDARD
END:VTIMEZONE
BEGIN:VEVENT
DTSTART;TZID=America/New_York:20231017T090000
DTEND;TZID=America/New_York:20231017T140000
DTSTAMP:20260420T064409
CREATED:20230908T135720Z
LAST-MODIFIED:20230908T135720Z
UID:10002288-1697533200-1697551200@richmondwaldorf.com
SUMMARY:6th Grade Field Trip to VMFA
DESCRIPTION:
URL:https://richmondwaldorf.com/event/6th-grade-field-trip-to-vmfa/
LOCATION:Richmond Waldorf School\, 1301 Robin Hood Road\, Richmond\, VA\, 23227\, United States
CATEGORIES:Festivals
ATTACH;FMTTYPE=:
GEO:37.571879;-77.45361
X-APPLE-STRUCTURED-LOCATION;VALUE=URI;X-ADDRESS=Richmond Waldorf School 1301 Robin Hood Road Richmond VA 23227 United States;X-APPLE-RADIUS=500;X-TITLE=1301 Robin Hood Road:geo:-77.45361,37.571879
END:VEVENT
BEGIN:VEVENT
DTSTART;TZID=America/New_York:20231017T150000
DTEND;TZID=America/New_York:20231017T163000
DTSTAMP:20260420T064409
CREATED:20230825T171137Z
LAST-MODIFIED:20231011T122632Z
UID:10002148-1697554800-1697560200@richmondwaldorf.com
SUMMARY:Soccer Practice\, Grades 5 - 8
DESCRIPTION:
URL:https://richmondwaldorf.com/event/soccer-practice-grades-5-8/2023-10-17/
LOCATION:Richmond Waldorf School\, 1301 Robin Hood Road\, Richmond\, VA\, 23227\, United States
CATEGORIES:Athletics
ATTACH;FMTTYPE=:
GEO:37.571879;-77.45361
X-APPLE-STRUCTURED-LOCATION;VALUE=URI;X-ADDRESS=Richmond Waldorf School 1301 Robin Hood Road Richmond VA 23227 United States;X-APPLE-RADIUS=500;X-TITLE=1301 Robin Hood Road:geo:-77.45361,37.571879
END:VEVENT
BEGIN:VEVENT
DTSTART;TZID=America/New_York:20231017T173000
DTEND;TZID=America/New_York:20231017T190000
DTSTAMP:20260420T064409
CREATED:20230907T160610Z
LAST-MODIFIED:20231010T193817Z
UID:10002284-1697563800-1697569200@richmondwaldorf.com
SUMMARY:Parent Enrichment Series #2: Alumni Panel
DESCRIPTION:* RSVP to save to your calendar and receive link.* \nWe have 5 wonderful RWS Alum panelists spanning high school to post-college for our next Parent Enrichment Series! We hope many of our students and parents will join us next Tuesday to learn about their experiences after graduating RWS. Our program will be moderated by Class Teacher\, Dawn Pollard. \nAll welcome to attend\, and strongly recommended for middle school students and parents! We hope you can tune in. Reach out to Valerie Hogan with any questions.
URL:https://richmondwaldorf.com/event/parent-enrichment-series-2-alumni-panel/
LOCATION:Zoom
CATEGORIES:School Event
ATTACH;FMTTYPE=:
END:VEVENT
END:VCALENDAR