BEGIN:VCALENDAR
VERSION:2.0
PRODID:-//Richmond Waldorf School - ECPv6.15.20//NONSGML v1.0//EN
CALSCALE:GREGORIAN
METHOD:PUBLISH
X-ORIGINAL-URL:https://richmondwaldorf.com
X-WR-CALDESC:Events for Richmond Waldorf School
REFRESH-INTERVAL;VALUE=DURATION:PT1H
X-Robots-Tag:noindex
X-PUBLISHED-TTL:PT1H
BEGIN:VTIMEZONE
TZID:America/New_York
BEGIN:DAYLIGHT
TZOFFSETFROM:-0500
TZOFFSETTO:-0400
TZNAME:EDT
DTSTART:20230312T070000
END:DAYLIGHT
BEGIN:STANDARD
TZOFFSETFROM:-0400
TZOFFSETTO:-0500
TZNAME:EST
DTSTART:20231105T060000
END:STANDARD
BEGIN:DAYLIGHT
TZOFFSETFROM:-0500
TZOFFSETTO:-0400
TZNAME:EDT
DTSTART:20240310T070000
END:DAYLIGHT
BEGIN:STANDARD
TZOFFSETFROM:-0400
TZOFFSETTO:-0500
TZNAME:EST
DTSTART:20241103T060000
END:STANDARD
BEGIN:DAYLIGHT
TZOFFSETFROM:-0500
TZOFFSETTO:-0400
TZNAME:EDT
DTSTART:20250309T070000
END:DAYLIGHT
BEGIN:STANDARD
TZOFFSETFROM:-0400
TZOFFSETTO:-0500
TZNAME:EST
DTSTART:20251102T060000
END:STANDARD
END:VTIMEZONE
BEGIN:VEVENT
DTSTART;VALUE=DATE:20240415
DTEND;VALUE=DATE:20240420
DTSTAMP:20260425T154948
CREATED:20231030T185304Z
LAST-MODIFIED:20231030T185304Z
UID:10002319-1713139200-1713571199@richmondwaldorf.com
SUMMARY:3rd Grade Farm Trip to Hawthorne Valley
DESCRIPTION:
URL:https://richmondwaldorf.com/event/3rd-grade-farm-trip-to-hawthorne-valley-2/
LOCATION:Richmond Waldorf School\, 1301 Robin Hood Road\, Richmond\, VA\, 23227\, United States
CATEGORIES:Field Trips
ATTACH;FMTTYPE=:
GEO:37.571879;-77.45361
X-APPLE-STRUCTURED-LOCATION;VALUE=URI;X-ADDRESS=Richmond Waldorf School 1301 Robin Hood Road Richmond VA 23227 United States;X-APPLE-RADIUS=500;X-TITLE=1301 Robin Hood Road:geo:-77.45361,37.571879
END:VEVENT
BEGIN:VEVENT
DTSTART;TZID=America/New_York:20240416T090000
DTEND;TZID=America/New_York:20240416T100000
DTSTAMP:20260425T154948
CREATED:20240325T124520Z
LAST-MODIFIED:20240325T124520Z
UID:10002587-1713258000-1713261600@richmondwaldorf.com
SUMMARY:Music Master Class
DESCRIPTION:Tuesday\, April 16\n9-10 am\nGrades 5-8 attending. A few Middle School students will participate in a Master Class with international artists Anyango Yarbo-Davenport\, violinist\, Christoph Wagner\, cellist. Joanne Kong\, pianist\, will join them for a brief performance at the end of the class.
URL:https://richmondwaldorf.com/event/music-master-class/
LOCATION:Richmond Waldorf School\, 1301 Robin Hood Road\, Richmond\, VA\, 23227\, United States
CATEGORIES:Class Plays & Events
ATTACH;FMTTYPE=:
GEO:37.571879;-77.45361
X-APPLE-STRUCTURED-LOCATION;VALUE=URI;X-ADDRESS=Richmond Waldorf School 1301 Robin Hood Road Richmond VA 23227 United States;X-APPLE-RADIUS=500;X-TITLE=1301 Robin Hood Road:geo:-77.45361,37.571879
END:VEVENT
BEGIN:VEVENT
DTSTART;TZID=America/New_York:20240416T150000
DTEND;TZID=America/New_York:20240416T163000
DTSTAMP:20260425T154948
CREATED:20240311T125800Z
LAST-MODIFIED:20240314T175805Z
UID:10002460-1713279600-1713285000@richmondwaldorf.com
SUMMARY:Soccer Practice
DESCRIPTION:
URL:https://richmondwaldorf.com/event/soccer-practice-14/2024-04-16/
LOCATION:Richmond Waldorf School\, 1301 Robin Hood Road\, Richmond\, VA\, 23227\, United States
CATEGORIES:Athletics
ATTACH;FMTTYPE=:
GEO:37.571879;-77.45361
X-APPLE-STRUCTURED-LOCATION;VALUE=URI;X-ADDRESS=Richmond Waldorf School 1301 Robin Hood Road Richmond VA 23227 United States;X-APPLE-RADIUS=500;X-TITLE=1301 Robin Hood Road:geo:-77.45361,37.571879
END:VEVENT
END:VCALENDAR