BEGIN:VCALENDAR
VERSION:2.0
PRODID:-//Richmond Waldorf School - ECPv6.15.20//NONSGML v1.0//EN
CALSCALE:GREGORIAN
METHOD:PUBLISH
X-WR-CALNAME:Richmond Waldorf School
X-ORIGINAL-URL:https://richmondwaldorf.com
X-WR-CALDESC:Events for Richmond Waldorf School
REFRESH-INTERVAL;VALUE=DURATION:PT1H
X-Robots-Tag:noindex
X-PUBLISHED-TTL:PT1H
BEGIN:VTIMEZONE
TZID:America/New_York
BEGIN:DAYLIGHT
TZOFFSETFROM:-0500
TZOFFSETTO:-0400
TZNAME:EDT
DTSTART:20230312T070000
END:DAYLIGHT
BEGIN:STANDARD
TZOFFSETFROM:-0400
TZOFFSETTO:-0500
TZNAME:EST
DTSTART:20231105T060000
END:STANDARD
BEGIN:DAYLIGHT
TZOFFSETFROM:-0500
TZOFFSETTO:-0400
TZNAME:EDT
DTSTART:20240310T070000
END:DAYLIGHT
BEGIN:STANDARD
TZOFFSETFROM:-0400
TZOFFSETTO:-0500
TZNAME:EST
DTSTART:20241103T060000
END:STANDARD
BEGIN:DAYLIGHT
TZOFFSETFROM:-0500
TZOFFSETTO:-0400
TZNAME:EDT
DTSTART:20250309T070000
END:DAYLIGHT
BEGIN:STANDARD
TZOFFSETFROM:-0400
TZOFFSETTO:-0500
TZNAME:EST
DTSTART:20251102T060000
END:STANDARD
END:VTIMEZONE
BEGIN:VEVENT
DTSTART;TZID=America/New_York:20240502T173000
DTEND;TZID=America/New_York:20240502T183000
DTSTAMP:20260423T051342
CREATED:20240408T133039Z
LAST-MODIFIED:20240408T133039Z
UID:10002592-1714671000-1714674600@richmondwaldorf.com
SUMMARY:Girls Soccer Game
DESCRIPTION:Girls soccer game vs. Veritas @ Seven Hills. 5:30 pm.
URL:https://richmondwaldorf.com/event/girls-soccer-game-4/
LOCATION:Richmond Waldorf School\, 1301 Robin Hood Road\, Richmond\, VA\, 23227\, United States
CATEGORIES:Athletics
ATTACH;FMTTYPE=:
GEO:37.571879;-77.45361
X-APPLE-STRUCTURED-LOCATION;VALUE=URI;X-ADDRESS=Richmond Waldorf School 1301 Robin Hood Road Richmond VA 23227 United States;X-APPLE-RADIUS=500;X-TITLE=1301 Robin Hood Road:geo:-77.45361,37.571879
END:VEVENT
BEGIN:VEVENT
DTSTART;TZID=America/New_York:20240503T171500
DTEND;TZID=America/New_York:20240503T183000
DTSTAMP:20260423T051342
CREATED:20240311T131208Z
LAST-MODIFIED:20240311T131208Z
UID:10002583-1714756500-1714761000@richmondwaldorf.com
SUMMARY:Soccer Game
DESCRIPTION:5:15 pm vs. RMS at Sabot.
URL:https://richmondwaldorf.com/event/soccer-game-5/
LOCATION:Sabot at Stony Point\, 3400 Stony Point Road\, Richmond\, VA\, 23235\, United States
CATEGORIES:Athletics
ATTACH;FMTTYPE=:
GEO:37.5464564;-77.5690526
X-APPLE-STRUCTURED-LOCATION;VALUE=URI;X-ADDRESS=Sabot at Stony Point 3400 Stony Point Road Richmond VA 23235 United States;X-APPLE-RADIUS=500;X-TITLE=3400 Stony Point Road:geo:-77.5690526,37.5464564
END:VEVENT
BEGIN:VEVENT
DTSTART;TZID=America/New_York:20240507T150000
DTEND;TZID=America/New_York:20240507T163000
DTSTAMP:20260423T051342
CREATED:20240311T125800Z
LAST-MODIFIED:20240314T175805Z
UID:10002463-1715094000-1715099400@richmondwaldorf.com
SUMMARY:Soccer Practice
DESCRIPTION:
URL:https://richmondwaldorf.com/event/soccer-practice-14/2024-05-07/
LOCATION:Richmond Waldorf School\, 1301 Robin Hood Road\, Richmond\, VA\, 23227\, United States
CATEGORIES:Athletics
ATTACH;FMTTYPE=:
GEO:37.571879;-77.45361
X-APPLE-STRUCTURED-LOCATION;VALUE=URI;X-ADDRESS=Richmond Waldorf School 1301 Robin Hood Road Richmond VA 23227 United States;X-APPLE-RADIUS=500;X-TITLE=1301 Robin Hood Road:geo:-77.45361,37.571879
END:VEVENT
BEGIN:VEVENT
DTSTART;TZID=America/New_York:20240509T150000
DTEND;TZID=America/New_York:20240509T163000
DTSTAMP:20260423T051342
CREATED:20240311T130322Z
LAST-MODIFIED:20240501T140355Z
UID:10002525-1715266800-1715272200@richmondwaldorf.com
SUMMARY:Soccer Practice
DESCRIPTION:
URL:https://richmondwaldorf.com/event/soccer-practice-15/2024-05-09/
LOCATION:Richmond Waldorf School\, 1301 Robin Hood Road\, Richmond\, VA\, 23227\, United States
CATEGORIES:Athletics
ATTACH;FMTTYPE=:
GEO:37.571879;-77.45361
X-APPLE-STRUCTURED-LOCATION;VALUE=URI;X-ADDRESS=Richmond Waldorf School 1301 Robin Hood Road Richmond VA 23227 United States;X-APPLE-RADIUS=500;X-TITLE=1301 Robin Hood Road:geo:-77.45361,37.571879
END:VEVENT
BEGIN:VEVENT
DTSTART;TZID=America/New_York:20240513T173000
DTEND;TZID=America/New_York:20240513T183000
DTSTAMP:20260423T051342
CREATED:20240508T125702Z
LAST-MODIFIED:20240508T125702Z
UID:10002601-1715621400-1715625000@richmondwaldorf.com
SUMMARY:Girls Soccer Game
DESCRIPTION:RWS Girls vs. RMS at Seven Hills School
URL:https://richmondwaldorf.com/event/girls-soccer-game-5/
LOCATION:7Hills School\, 1311 Overbrook Rd\, Richmond\, VA\, 23220
CATEGORIES:Athletics
ATTACH;FMTTYPE=:
END:VEVENT
BEGIN:VEVENT
DTSTART;TZID=America/New_York:20240514T150000
DTEND;TZID=America/New_York:20240514T163000
DTSTAMP:20260423T051342
CREATED:20240311T125800Z
LAST-MODIFIED:20240314T175805Z
UID:10002586-1715698800-1715704200@richmondwaldorf.com
SUMMARY:Soccer Practice
DESCRIPTION:
URL:https://richmondwaldorf.com/event/soccer-practice-14/2024-05-14/
LOCATION:Richmond Waldorf School\, 1301 Robin Hood Road\, Richmond\, VA\, 23227\, United States
CATEGORIES:Athletics
ATTACH;FMTTYPE=:
GEO:37.571879;-77.45361
X-APPLE-STRUCTURED-LOCATION;VALUE=URI;X-ADDRESS=Richmond Waldorf School 1301 Robin Hood Road Richmond VA 23227 United States;X-APPLE-RADIUS=500;X-TITLE=1301 Robin Hood Road:geo:-77.45361,37.571879
END:VEVENT
BEGIN:VEVENT
DTSTART;TZID=America/New_York:20240516T150000
DTEND;TZID=America/New_York:20240516T163000
DTSTAMP:20260423T051342
CREATED:20240311T130322Z
LAST-MODIFIED:20240501T140355Z
UID:10002526-1715871600-1715877000@richmondwaldorf.com
SUMMARY:Soccer Practice
DESCRIPTION:
URL:https://richmondwaldorf.com/event/soccer-practice-15/2024-05-16/
LOCATION:Richmond Waldorf School\, 1301 Robin Hood Road\, Richmond\, VA\, 23227\, United States
CATEGORIES:Athletics
ATTACH;FMTTYPE=:
GEO:37.571879;-77.45361
X-APPLE-STRUCTURED-LOCATION;VALUE=URI;X-ADDRESS=Richmond Waldorf School 1301 Robin Hood Road Richmond VA 23227 United States;X-APPLE-RADIUS=500;X-TITLE=1301 Robin Hood Road:geo:-77.45361,37.571879
END:VEVENT
BEGIN:VEVENT
DTSTART;TZID=America/New_York:20240517T160000
DTEND;TZID=America/New_York:20240517T173000
DTSTAMP:20260423T051342
CREATED:20240311T131253Z
LAST-MODIFIED:20240311T131303Z
UID:10002584-1715961600-1715967000@richmondwaldorf.com
SUMMARY:Soccer Game
DESCRIPTION:4 pm vs. RMS at Sabot.
URL:https://richmondwaldorf.com/event/soccer-game-6/
LOCATION:Sabot at Stony Point\, 3400 Stony Point Road\, Richmond\, VA\, 23235\, United States
CATEGORIES:Athletics
ATTACH;FMTTYPE=:
GEO:37.5464564;-77.5690526
X-APPLE-STRUCTURED-LOCATION;VALUE=URI;X-ADDRESS=Sabot at Stony Point 3400 Stony Point Road Richmond VA 23235 United States;X-APPLE-RADIUS=500;X-TITLE=3400 Stony Point Road:geo:-77.5690526,37.5464564
END:VEVENT
BEGIN:VEVENT
DTSTART;TZID=America/New_York:20240518T140000
DTEND;TZID=America/New_York:20240518T160000
DTSTAMP:20260423T051342
CREATED:20240508T125748Z
LAST-MODIFIED:20240508T125748Z
UID:10002602-1716040800-1716048000@richmondwaldorf.com
SUMMARY:Soccer Season Celebration
DESCRIPTION:
URL:https://richmondwaldorf.com/event/soccer-season-celebration/
LOCATION:Richmond Waldorf School\, 1301 Robin Hood Road\, Richmond\, VA\, 23227\, United States
CATEGORIES:Athletics
ATTACH;FMTTYPE=:
GEO:37.571879;-77.45361
X-APPLE-STRUCTURED-LOCATION;VALUE=URI;X-ADDRESS=Richmond Waldorf School 1301 Robin Hood Road Richmond VA 23227 United States;X-APPLE-RADIUS=500;X-TITLE=1301 Robin Hood Road:geo:-77.45361,37.571879
END:VEVENT
END:VCALENDAR