BEGIN:VCALENDAR
VERSION:2.0
PRODID:-//Richmond Waldorf School - ECPv6.15.20//NONSGML v1.0//EN
CALSCALE:GREGORIAN
METHOD:PUBLISH
X-WR-CALNAME:Richmond Waldorf School
X-ORIGINAL-URL:https://richmondwaldorf.com
X-WR-CALDESC:Events for Richmond Waldorf School
REFRESH-INTERVAL;VALUE=DURATION:PT1H
X-Robots-Tag:noindex
X-PUBLISHED-TTL:PT1H
BEGIN:VTIMEZONE
TZID:America/New_York
BEGIN:DAYLIGHT
TZOFFSETFROM:-0500
TZOFFSETTO:-0400
TZNAME:EDT
DTSTART:20230312T070000
END:DAYLIGHT
BEGIN:STANDARD
TZOFFSETFROM:-0400
TZOFFSETTO:-0500
TZNAME:EST
DTSTART:20231105T060000
END:STANDARD
BEGIN:DAYLIGHT
TZOFFSETFROM:-0500
TZOFFSETTO:-0400
TZNAME:EDT
DTSTART:20240310T070000
END:DAYLIGHT
BEGIN:STANDARD
TZOFFSETFROM:-0400
TZOFFSETTO:-0500
TZNAME:EST
DTSTART:20241103T060000
END:STANDARD
BEGIN:DAYLIGHT
TZOFFSETFROM:-0500
TZOFFSETTO:-0400
TZNAME:EDT
DTSTART:20250309T070000
END:DAYLIGHT
BEGIN:STANDARD
TZOFFSETFROM:-0400
TZOFFSETTO:-0500
TZNAME:EST
DTSTART:20251102T060000
END:STANDARD
END:VTIMEZONE
BEGIN:VEVENT
DTSTART;TZID=America/New_York:20240422T173000
DTEND;TZID=America/New_York:20240422T183000
DTSTAMP:20260424T233848
CREATED:20240408T132944Z
LAST-MODIFIED:20240408T132944Z
UID:10002591-1713807000-1713810600@richmondwaldorf.com
SUMMARY:Girls Soccer Game
DESCRIPTION:Girls soccer game vs. Richmond Montessori @ Seven Hills. 5:30 pm.
URL:https://richmondwaldorf.com/event/girls-soccer-game-3/
LOCATION:Richmond Waldorf School\, 1301 Robin Hood Road\, Richmond\, VA\, 23227\, United States
CATEGORIES:Athletics
ATTACH;FMTTYPE=:
GEO:37.571879;-77.45361
X-APPLE-STRUCTURED-LOCATION;VALUE=URI;X-ADDRESS=Richmond Waldorf School 1301 Robin Hood Road Richmond VA 23227 United States;X-APPLE-RADIUS=500;X-TITLE=1301 Robin Hood Road:geo:-77.45361,37.571879
END:VEVENT
BEGIN:VEVENT
DTSTART;TZID=America/New_York:20240423T150000
DTEND;TZID=America/New_York:20240423T163000
DTSTAMP:20260424T233848
CREATED:20240311T125800Z
LAST-MODIFIED:20240314T175805Z
UID:10002461-1713884400-1713889800@richmondwaldorf.com
SUMMARY:Soccer Practice
DESCRIPTION:
URL:https://richmondwaldorf.com/event/soccer-practice-14/2024-04-23/
LOCATION:Richmond Waldorf School\, 1301 Robin Hood Road\, Richmond\, VA\, 23227\, United States
CATEGORIES:Athletics
ATTACH;FMTTYPE=:
GEO:37.571879;-77.45361
X-APPLE-STRUCTURED-LOCATION;VALUE=URI;X-ADDRESS=Richmond Waldorf School 1301 Robin Hood Road Richmond VA 23227 United States;X-APPLE-RADIUS=500;X-TITLE=1301 Robin Hood Road:geo:-77.45361,37.571879
END:VEVENT
BEGIN:VEVENT
DTSTART;TZID=America/New_York:20240425T150000
DTEND;TZID=America/New_York:20240425T163000
DTSTAMP:20260424T233848
CREATED:20240311T130322Z
LAST-MODIFIED:20240501T140355Z
UID:10002523-1714057200-1714062600@richmondwaldorf.com
SUMMARY:Soccer Practice
DESCRIPTION:
URL:https://richmondwaldorf.com/event/soccer-practice-15/2024-04-25/
LOCATION:Richmond Waldorf School\, 1301 Robin Hood Road\, Richmond\, VA\, 23227\, United States
CATEGORIES:Athletics
ATTACH;FMTTYPE=:
GEO:37.571879;-77.45361
X-APPLE-STRUCTURED-LOCATION;VALUE=URI;X-ADDRESS=Richmond Waldorf School 1301 Robin Hood Road Richmond VA 23227 United States;X-APPLE-RADIUS=500;X-TITLE=1301 Robin Hood Road:geo:-77.45361,37.571879
END:VEVENT
BEGIN:VEVENT
DTSTART;TZID=America/New_York:20240426T171500
DTEND;TZID=America/New_York:20240426T183000
DTSTAMP:20260424T233848
CREATED:20240311T131058Z
LAST-MODIFIED:20240311T131058Z
UID:10002582-1714151700-1714156200@richmondwaldorf.com
SUMMARY:Soccer Game
DESCRIPTION:5:15 vs. Anna Julia Cooper at Sabot.
URL:https://richmondwaldorf.com/event/soccer-game-4/
LOCATION:Sabot at Stony Point\, 3400 Stony Point Road\, Richmond\, VA\, 23235\, United States
CATEGORIES:Athletics
ATTACH;FMTTYPE=:
GEO:37.5464564;-77.5690526
X-APPLE-STRUCTURED-LOCATION;VALUE=URI;X-ADDRESS=Sabot at Stony Point 3400 Stony Point Road Richmond VA 23235 United States;X-APPLE-RADIUS=500;X-TITLE=3400 Stony Point Road:geo:-77.5690526,37.5464564
END:VEVENT
END:VCALENDAR