BEGIN:VCALENDAR
VERSION:2.0
PRODID:-//Richmond Waldorf School - ECPv6.15.20//NONSGML v1.0//EN
CALSCALE:GREGORIAN
METHOD:PUBLISH
X-WR-CALNAME:Richmond Waldorf School
X-ORIGINAL-URL:https://richmondwaldorf.com
X-WR-CALDESC:Events for Richmond Waldorf School
REFRESH-INTERVAL;VALUE=DURATION:PT1H
X-Robots-Tag:noindex
X-PUBLISHED-TTL:PT1H
BEGIN:VTIMEZONE
TZID:America/New_York
BEGIN:DAYLIGHT
TZOFFSETFROM:-0500
TZOFFSETTO:-0400
TZNAME:EDT
DTSTART:20230312T070000
END:DAYLIGHT
BEGIN:STANDARD
TZOFFSETFROM:-0400
TZOFFSETTO:-0500
TZNAME:EST
DTSTART:20231105T060000
END:STANDARD
BEGIN:DAYLIGHT
TZOFFSETFROM:-0500
TZOFFSETTO:-0400
TZNAME:EDT
DTSTART:20240310T070000
END:DAYLIGHT
BEGIN:STANDARD
TZOFFSETFROM:-0400
TZOFFSETTO:-0500
TZNAME:EST
DTSTART:20241103T060000
END:STANDARD
BEGIN:DAYLIGHT
TZOFFSETFROM:-0500
TZOFFSETTO:-0400
TZNAME:EDT
DTSTART:20250309T070000
END:DAYLIGHT
BEGIN:STANDARD
TZOFFSETFROM:-0400
TZOFFSETTO:-0500
TZNAME:EST
DTSTART:20251102T060000
END:STANDARD
END:VTIMEZONE
BEGIN:VEVENT
DTSTART;TZID=America/New_York:20240910T173000
DTEND;TZID=America/New_York:20240910T193000
DTSTAMP:20260420T092224
CREATED:20240901T155405Z
LAST-MODIFIED:20240901T155405Z
UID:10002639-1725989400-1725996600@richmondwaldorf.com
SUMMARY:6th Grade Class Meeting
DESCRIPTION:
URL:https://richmondwaldorf.com/event/6th-grade-class-meeting-12/
LOCATION:Richmond Waldorf School\, 1301 Robin Hood Road\, Richmond\, VA\, 23227\, United States
CATEGORIES:Class Meetings
ATTACH;FMTTYPE=:
GEO:37.571879;-77.45361
X-APPLE-STRUCTURED-LOCATION;VALUE=URI;X-ADDRESS=Richmond Waldorf School 1301 Robin Hood Road Richmond VA 23227 United States;X-APPLE-RADIUS=500;X-TITLE=1301 Robin Hood Road:geo:-77.45361,37.571879
END:VEVENT
BEGIN:VEVENT
DTSTART;TZID=America/New_York:20240912T173000
DTEND;TZID=America/New_York:20240912T183000
DTSTAMP:20260420T092224
CREATED:20240903T164226Z
LAST-MODIFIED:20240903T164226Z
UID:10002642-1726162200-1726165800@richmondwaldorf.com
SUMMARY:Magnolia Class Meeting
DESCRIPTION:
URL:https://richmondwaldorf.com/event/magnolia-class-meeting-2/
LOCATION:Richmond Waldorf School\, 1301 Robin Hood Road\, Richmond\, VA\, 23227\, United States
CATEGORIES:Class Meetings
ATTACH;FMTTYPE=:
GEO:37.571879;-77.45361
X-APPLE-STRUCTURED-LOCATION;VALUE=URI;X-ADDRESS=Richmond Waldorf School 1301 Robin Hood Road Richmond VA 23227 United States;X-APPLE-RADIUS=500;X-TITLE=1301 Robin Hood Road:geo:-77.45361,37.571879
END:VEVENT
BEGIN:VEVENT
DTSTART;TZID=America/New_York:20240916T173000
DTEND;TZID=America/New_York:20240916T190000
DTSTAMP:20260420T092224
CREATED:20240816T195155Z
LAST-MODIFIED:20240816T195155Z
UID:10002630-1726507800-1726513200@richmondwaldorf.com
SUMMARY:4th Grade Parent Evening
DESCRIPTION:5:30 to 7 pm in the 4th grade classroom.
URL:https://richmondwaldorf.com/event/4th-grade-parent-evening/
LOCATION:Richmond Waldorf School\, 1301 Robin Hood Road\, Richmond\, VA\, 23227\, United States
CATEGORIES:Class Meetings
ATTACH;FMTTYPE=:
GEO:37.571879;-77.45361
X-APPLE-STRUCTURED-LOCATION;VALUE=URI;X-ADDRESS=Richmond Waldorf School 1301 Robin Hood Road Richmond VA 23227 United States;X-APPLE-RADIUS=500;X-TITLE=1301 Robin Hood Road:geo:-77.45361,37.571879
END:VEVENT
BEGIN:VEVENT
DTSTART;TZID=America/New_York:20240923T183000
DTEND;TZID=America/New_York:20240923T193000
DTSTAMP:20260420T092224
CREATED:20240811T043248Z
LAST-MODIFIED:20240811T043248Z
UID:10002611-1727116200-1727119800@richmondwaldorf.com
SUMMARY:8th Grade Class Meeting
DESCRIPTION:Class parent evening\, Monday\, Sep. 23\, 6:30 – 7:30 pm. \nVirtual option will be available.
URL:https://richmondwaldorf.com/event/8th-grade-class-meeting-7/
LOCATION:Richmond Waldorf School\, 1301 Robin Hood Road\, Richmond\, VA\, 23227\, United States
CATEGORIES:Class Meetings
ATTACH;FMTTYPE=:
GEO:37.571879;-77.45361
X-APPLE-STRUCTURED-LOCATION;VALUE=URI;X-ADDRESS=Richmond Waldorf School 1301 Robin Hood Road Richmond VA 23227 United States;X-APPLE-RADIUS=500;X-TITLE=1301 Robin Hood Road:geo:-77.45361,37.571879
END:VEVENT
BEGIN:VEVENT
DTSTART;TZID=America/New_York:20240924T173000
DTEND;TZID=America/New_York:20240924T190000
DTSTAMP:20260420T092224
CREATED:20240906T120056Z
LAST-MODIFIED:20240906T120220Z
UID:10002645-1727199000-1727204400@richmondwaldorf.com
SUMMARY:1st Grade Class Meeting
DESCRIPTION:
URL:https://richmondwaldorf.com/event/first-grade-class-meeting-2/
LOCATION:Richmond Waldorf School\, 1301 Robin Hood Road\, Richmond\, VA\, 23227\, United States
CATEGORIES:Class Meetings
ATTACH;FMTTYPE=:
GEO:37.571879;-77.45361
X-APPLE-STRUCTURED-LOCATION;VALUE=URI;X-ADDRESS=Richmond Waldorf School 1301 Robin Hood Road Richmond VA 23227 United States;X-APPLE-RADIUS=500;X-TITLE=1301 Robin Hood Road:geo:-77.45361,37.571879
END:VEVENT
END:VCALENDAR