BEGIN:VCALENDAR
VERSION:2.0
PRODID:-//Richmond Waldorf School - ECPv6.15.20//NONSGML v1.0//EN
CALSCALE:GREGORIAN
METHOD:PUBLISH
X-WR-CALNAME:Richmond Waldorf School
X-ORIGINAL-URL:https://richmondwaldorf.com
X-WR-CALDESC:Events for Richmond Waldorf School
REFRESH-INTERVAL;VALUE=DURATION:PT1H
X-Robots-Tag:noindex
X-PUBLISHED-TTL:PT1H
BEGIN:VTIMEZONE
TZID:America/New_York
BEGIN:DAYLIGHT
TZOFFSETFROM:-0500
TZOFFSETTO:-0400
TZNAME:EDT
DTSTART:20210314T070000
END:DAYLIGHT
BEGIN:STANDARD
TZOFFSETFROM:-0400
TZOFFSETTO:-0500
TZNAME:EST
DTSTART:20211107T060000
END:STANDARD
BEGIN:DAYLIGHT
TZOFFSETFROM:-0500
TZOFFSETTO:-0400
TZNAME:EDT
DTSTART:20220313T070000
END:DAYLIGHT
BEGIN:STANDARD
TZOFFSETFROM:-0400
TZOFFSETTO:-0500
TZNAME:EST
DTSTART:20221106T060000
END:STANDARD
BEGIN:DAYLIGHT
TZOFFSETFROM:-0500
TZOFFSETTO:-0400
TZNAME:EDT
DTSTART:20230312T070000
END:DAYLIGHT
BEGIN:STANDARD
TZOFFSETFROM:-0400
TZOFFSETTO:-0500
TZNAME:EST
DTSTART:20231105T060000
END:STANDARD
BEGIN:DAYLIGHT
TZOFFSETFROM:-0500
TZOFFSETTO:-0400
TZNAME:EDT
DTSTART:20240310T070000
END:DAYLIGHT
BEGIN:STANDARD
TZOFFSETFROM:-0400
TZOFFSETTO:-0500
TZNAME:EST
DTSTART:20241103T060000
END:STANDARD
BEGIN:DAYLIGHT
TZOFFSETFROM:-0500
TZOFFSETTO:-0400
TZNAME:EDT
DTSTART:20250309T070000
END:DAYLIGHT
BEGIN:STANDARD
TZOFFSETFROM:-0400
TZOFFSETTO:-0500
TZNAME:EST
DTSTART:20251102T060000
END:STANDARD
END:VTIMEZONE
BEGIN:VEVENT
DTSTART;TZID=America/New_York:20240903T130000
DTEND;TZID=America/New_York:20240903T200000
DTSTAMP:20260419T111458
CREATED:20240901T122418Z
LAST-MODIFIED:20240901T124634Z
UID:10002638-1725368400-1725393600@richmondwaldorf.com
SUMMARY:Spirit Night at Gelati Celesti
DESCRIPTION:Join us at Gelati Celesti in Scott’s Addition for a RWS Spirit Day celebrating Back to School! Make sure to mention RWS at checkout and support our school! 1 pm to close. \n 
URL:https://richmondwaldorf.com/event/spirit-night-at-gelati-celesti-3/
LOCATION:Gelati Celesti\, 1400 N. Boulevard\, Richmond\, VA\, 23230\, United States
CATEGORIES:Public Events
ATTACH;FMTTYPE=:
GEO:37.5677981;-77.4676936
X-APPLE-STRUCTURED-LOCATION;VALUE=URI;X-ADDRESS=Gelati Celesti 1400 N. Boulevard Richmond VA 23230 United States;X-APPLE-RADIUS=500;X-TITLE=1400 N. Boulevard:geo:-77.4676936,37.5677981
END:VEVENT
BEGIN:VEVENT
DTSTART;TZID=America/New_York:20240604T130000
DTEND;TZID=America/New_York:20240604T200000
DTSTAMP:20260419T111458
CREATED:20240215T201109Z
LAST-MODIFIED:20240215T201238Z
UID:10002450-1717506000-1717531200@richmondwaldorf.com
SUMMARY:Spirit Night at Gelati Celesti
DESCRIPTION:
URL:https://richmondwaldorf.com/event/spirit-night-at-gelati-celesti-2/
LOCATION:Richmond Waldorf School\, 1301 Robin Hood Road\, Richmond\, VA\, 23227\, United States
CATEGORIES:Public Events
ATTACH;FMTTYPE=image/png:https://richmondwaldorf.com/wp-content/uploads/2024/02/Scotts-Addition-spirit-night-social-36.png
GEO:37.571879;-77.45361
X-APPLE-STRUCTURED-LOCATION;VALUE=URI;X-ADDRESS=Richmond Waldorf School 1301 Robin Hood Road Richmond VA 23227 United States;X-APPLE-RADIUS=500;X-TITLE=1301 Robin Hood Road:geo:-77.45361,37.571879
END:VEVENT
BEGIN:VEVENT
DTSTART;TZID=America/New_York:20240504T100000
DTEND;TZID=America/New_York:20240504T140000
DTSTAMP:20260419T111459
CREATED:20230530T205841Z
LAST-MODIFIED:20240502T130617Z
UID:10002046-1714816800-1714831200@richmondwaldorf.com
SUMMARY:May Faire 2024
DESCRIPTION:Richmond Waldorf School invites you to join us as we celebrate the coming of Spring! \n\n\n\n\nSaturday\, May 4\, 2024 (rain or shine) \nMaypole dance begins: 10:00am\nActivities and Entertainment: 11:00am – 2:00pm \nEntry to the event is free and open to the public. Tickets sold at the door or preordered allow you to participate in activities such as flower crown making\, jump rope making\, tie-dyeing\, a visit to the Pocket Fairy\, and more. All proceeds benefit the students of RWS. \n 
URL:https://richmondwaldorf.com/event/may-faire-2024/
LOCATION:Richmond Waldorf School\, 1301 Robin Hood Road\, Richmond\, VA\, 23227\, United States
CATEGORIES:Festivals,Public Events,School Event,Volunteer Opportunities
ATTACH;FMTTYPE=image/png:https://richmondwaldorf.com/wp-content/uploads/2021/06/Copy-of-Facebook-Event-Cover-RWS-MayFaire2022-1.png
GEO:37.571879;-77.45361
X-APPLE-STRUCTURED-LOCATION;VALUE=URI;X-ADDRESS=Richmond Waldorf School 1301 Robin Hood Road Richmond VA 23227 United States;X-APPLE-RADIUS=500;X-TITLE=1301 Robin Hood Road:geo:-77.45361,37.571879
END:VEVENT
BEGIN:VEVENT
DTSTART;TZID=America/New_York:20240411T150000
DTEND;TZID=America/New_York:20240411T190000
DTSTAMP:20260419T111459
CREATED:20240328T145652Z
LAST-MODIFIED:20240328T145824Z
UID:10002588-1712847600-1712862000@richmondwaldorf.com
SUMMARY:Spirit Night at The Smoky Mug
DESCRIPTION:On Thursday April 11th\, the Smoky Mug will do a give back dinner service. 15% of sales on 4/11 between 3 pm – 7 pm will go back to RWS\, with an additional 5% to the special “Waldorf menu item!” www.thesmokymug.com 
URL:https://richmondwaldorf.com/event/spirit-night-at-the-smoky-mug/
LOCATION:the smoky mug\, 15 E Brookland Park Blvd\, Richmond\, United States
CATEGORIES:Public Events
ATTACH;FMTTYPE=:
END:VEVENT
BEGIN:VEVENT
DTSTART;TZID=America/New_York:20240122T100000
DTEND;TZID=America/New_York:20240122T220000
DTSTAMP:20260419T111459
CREATED:20231016T194127Z
LAST-MODIFIED:20231017T171752Z
UID:10002312-1705917600-1705960800@richmondwaldorf.com
SUMMARY:Spirit Night at Torchy's Tacos!
DESCRIPTION:
URL:https://richmondwaldorf.com/event/spirit-night-at-torchys-tacos/
LOCATION:Richmond Waldorf School\, 1301 Robin Hood Road\, Richmond\, VA\, 23227\, United States
CATEGORIES:Public Events,School Event
ATTACH;FMTTYPE=:
GEO:37.571879;-77.45361
X-APPLE-STRUCTURED-LOCATION;VALUE=URI;X-ADDRESS=Richmond Waldorf School 1301 Robin Hood Road Richmond VA 23227 United States;X-APPLE-RADIUS=500;X-TITLE=1301 Robin Hood Road:geo:-77.45361,37.571879
END:VEVENT
BEGIN:VEVENT
DTSTART;TZID=America/New_York:20230117T173000
DTEND;TZID=America/New_York:20230117T190000
DTSTAMP:20260419T111459
CREATED:20220915T141542Z
LAST-MODIFIED:20221020T145308Z
UID:10001631-1673976600-1673982000@richmondwaldorf.com
SUMMARY:Virtual Author Talk: Sadeqa Johnson\, The Yellow Wife
DESCRIPTION:
URL:https://richmondwaldorf.com/event/pa-sponsored-event/
LOCATION:Richmond Waldorf School\, 1301 Robin Hood Road\, Richmond\, VA\, 23227\, United States
CATEGORIES:Public Events,School Event
ATTACH;FMTTYPE=:
GEO:37.571879;-77.45361
X-APPLE-STRUCTURED-LOCATION;VALUE=URI;X-ADDRESS=Richmond Waldorf School 1301 Robin Hood Road Richmond VA 23227 United States;X-APPLE-RADIUS=500;X-TITLE=1301 Robin Hood Road:geo:-77.45361,37.571879
END:VEVENT
BEGIN:VEVENT
DTSTART;TZID=America/New_York:20221203T150000
DTEND;TZID=America/New_York:20221203T180000
DTSTAMP:20260419T111459
CREATED:20220713T182426Z
LAST-MODIFIED:20221003T173023Z
UID:10001642-1670079600-1670090400@richmondwaldorf.com
SUMMARY:Holiday Faire
DESCRIPTION:
URL:https://richmondwaldorf.com/event/holiday-faire/
LOCATION:Richmond Waldorf School\, 1301 Robin Hood Road\, Richmond\, VA\, 23227\, United States
CATEGORIES:Festivals,Public Events,School Event,Volunteer Opportunities
ATTACH;FMTTYPE=image/png:https://richmondwaldorf.com/wp-content/uploads/2022/07/Holiday-Faire-logo-2022-with-bg.png
GEO:37.571879;-77.45361
X-APPLE-STRUCTURED-LOCATION;VALUE=URI;X-ADDRESS=Richmond Waldorf School 1301 Robin Hood Road Richmond VA 23227 United States;X-APPLE-RADIUS=500;X-TITLE=1301 Robin Hood Road:geo:-77.45361,37.571879
END:VEVENT
BEGIN:VEVENT
DTSTART;TZID=America/New_York:20221020T173000
DTEND;TZID=America/New_York:20221020T190000
DTSTAMP:20260419T111459
CREATED:20220729T191943Z
LAST-MODIFIED:20221003T171455Z
UID:10001647-1666287000-1666292400@richmondwaldorf.com
SUMMARY:Parent Education Series w/ Special Guest Raelee Pierce\, Simplicity Parenting
DESCRIPTION:As part of Richmond Waldorf School’s ongoing Parent Education series\, RWS is excited to announce a Simplicity Parenting workshop led by guest speaker\, Raelee Pierce\, a Parent Educator and Coach for over 20 years. She will be at Richmond Waldorf School on Thursday\, October 20 at 5:30 pm for a special workshop to give parents the tools to navigate a “too much” world. This event is open to the public and geared towards parents of children\, age birth through 2nd grade.  \nThis parenting workshop is based upon the bestselling book “Simplicity Parenting” by Kim John Payne. This approach shares how small\, doable steps can lead to a simpler\, more connected home life. These revolutionary parenting tools can help parents create the life they want for themselves and their children.  \nThe goals of this workshop are to help parents have….. \n\nLess worry\nHappier Kids\nBetter relationships\nAnd more confidence! \n\nToday’s “too much\, too soon” culture takes the fun out of parenting and keeps children from having the kind of childhood that helps them thrive and be happy. Fortunately\, Simplicity Parenting can offer a different path. We are excited to share these ideas with you\, and hope to have many Northside families take advantage of this unique opportunity.  \nRecommended $5 donation at the door. To attend\, come to Richmond Waldorf School\, 1301 Robin Hood Road\, Richmond VA at 5:30 pm on Thursday\, October 20. To learn more about the event\, call Rachel Davis at 804-377-8024 ext 225 or email at rdavis@richmondwaldorf.com.
URL:https://richmondwaldorf.com/event/parent-education-night-w-special-guest-raelee-pierce-simplicity-parenting/
LOCATION:Richmond Waldorf School\, 1301 Robin Hood Road\, Richmond\, VA\, 23227\, United States
CATEGORIES:Public Events,School Event
ATTACH;FMTTYPE=image/png:https://richmondwaldorf.com/wp-content/uploads/2022/07/3F3BCB043FCF179DA8F5C580CFE08541_107810895.png
GEO:37.571879;-77.45361
X-APPLE-STRUCTURED-LOCATION;VALUE=URI;X-ADDRESS=Richmond Waldorf School 1301 Robin Hood Road Richmond VA 23227 United States;X-APPLE-RADIUS=500;X-TITLE=1301 Robin Hood Road:geo:-77.45361,37.571879
END:VEVENT
END:VCALENDAR