BEGIN:VCALENDAR
VERSION:2.0
PRODID:-//Richmond Waldorf School - ECPv6.15.20//NONSGML v1.0//EN
CALSCALE:GREGORIAN
METHOD:PUBLISH
X-WR-CALNAME:Richmond Waldorf School
X-ORIGINAL-URL:https://richmondwaldorf.com
X-WR-CALDESC:Events for Richmond Waldorf School
REFRESH-INTERVAL;VALUE=DURATION:PT1H
X-Robots-Tag:noindex
X-PUBLISHED-TTL:PT1H
BEGIN:VTIMEZONE
TZID:America/New_York
BEGIN:DAYLIGHT
TZOFFSETFROM:-0500
TZOFFSETTO:-0400
TZNAME:EDT
DTSTART:20210314T070000
END:DAYLIGHT
BEGIN:STANDARD
TZOFFSETFROM:-0400
TZOFFSETTO:-0500
TZNAME:EST
DTSTART:20211107T060000
END:STANDARD
BEGIN:DAYLIGHT
TZOFFSETFROM:-0500
TZOFFSETTO:-0400
TZNAME:EDT
DTSTART:20220313T070000
END:DAYLIGHT
BEGIN:STANDARD
TZOFFSETFROM:-0400
TZOFFSETTO:-0500
TZNAME:EST
DTSTART:20221106T060000
END:STANDARD
BEGIN:DAYLIGHT
TZOFFSETFROM:-0500
TZOFFSETTO:-0400
TZNAME:EDT
DTSTART:20230312T070000
END:DAYLIGHT
BEGIN:STANDARD
TZOFFSETFROM:-0400
TZOFFSETTO:-0500
TZNAME:EST
DTSTART:20231105T060000
END:STANDARD
END:VTIMEZONE
BEGIN:VEVENT
DTSTART;TZID=America/New_York:20221017T083000
DTEND;TZID=America/New_York:20221017T143000
DTSTAMP:20260423T152506
CREATED:20221007T120054Z
LAST-MODIFIED:20221007T120054Z
UID:10001673-1665995400-1666017000@richmondwaldorf.com
SUMMARY:3rd Grade Field Trip to Manakintowne Farm
DESCRIPTION:
URL:https://richmondwaldorf.com/event/3rd-grade-field-trip-to-manakintowne-farm/
LOCATION:Manakintowne Specialty Growers\, Federal Hill Farms Road\, Powhatan County\, VA\, 23139\, United States
CATEGORIES:Field Trips
ATTACH;FMTTYPE=:
GEO:37.5631795;-77.7781554
X-APPLE-STRUCTURED-LOCATION;VALUE=URI;X-ADDRESS=Manakintowne Specialty Growers Federal Hill Farms Road Powhatan County VA 23139 United States;X-APPLE-RADIUS=500;X-TITLE=Federal Hill Farms Road:geo:-77.7781554,37.5631795
END:VEVENT
BEGIN:VEVENT
DTSTART;TZID=America/New_York:20221017T173000
DTEND;TZID=America/New_York:20221017T190000
DTSTAMP:20260423T152506
CREATED:20220921T135058Z
LAST-MODIFIED:20220921T135058Z
UID:10001428-1666027800-1666033200@richmondwaldorf.com
SUMMARY:2nd Grade Class Meeting
DESCRIPTION:
URL:https://richmondwaldorf.com/event/2nd-grade-class-meeting-8/
LOCATION:Richmond Waldorf School\, 1301 Robin Hood Road\, Richmond\, VA\, 23227\, United States
CATEGORIES:Class Meetings
ATTACH;FMTTYPE=:
GEO:37.571879;-77.45361
X-APPLE-STRUCTURED-LOCATION;VALUE=URI;X-ADDRESS=Richmond Waldorf School 1301 Robin Hood Road Richmond VA 23227 United States;X-APPLE-RADIUS=500;X-TITLE=1301 Robin Hood Road:geo:-77.45361,37.571879
END:VEVENT
BEGIN:VEVENT
DTSTART;TZID=America/New_York:20221018T151500
DTEND;TZID=America/New_York:20221018T163000
DTSTAMP:20260423T152506
CREATED:20220829T132227Z
LAST-MODIFIED:20220829T132227Z
UID:10001653-1666106100-1666110600@richmondwaldorf.com
SUMMARY:Soccer Practice - 6th & 7th Grades
DESCRIPTION:
URL:https://richmondwaldorf.com/event/soccer-practice-6th-7th-grades/2022-10-18/
LOCATION:Richmond Waldorf School\, 1301 Robin Hood Road\, Richmond\, VA\, 23227\, United States
CATEGORIES:Athletics
ATTACH;FMTTYPE=:
GEO:37.571879;-77.45361
X-APPLE-STRUCTURED-LOCATION;VALUE=URI;X-ADDRESS=Richmond Waldorf School 1301 Robin Hood Road Richmond VA 23227 United States;X-APPLE-RADIUS=500;X-TITLE=1301 Robin Hood Road:geo:-77.45361,37.571879
END:VEVENT
BEGIN:VEVENT
DTSTART;TZID=America/New_York:20221019T151500
DTEND;TZID=America/New_York:20221019T163000
DTSTAMP:20260423T152506
CREATED:20220829T132443Z
LAST-MODIFIED:20220829T132641Z
UID:10001296-1666192500-1666197000@richmondwaldorf.com
SUMMARY:Soccer Practice - 5th Grade
DESCRIPTION:
URL:https://richmondwaldorf.com/event/soccer-practice-5th-grade-3/2022-10-19/
LOCATION:Richmond Waldorf School\, 1301 Robin Hood Road\, Richmond\, VA\, 23227\, United States
CATEGORIES:Athletics
ATTACH;FMTTYPE=:
GEO:37.571879;-77.45361
X-APPLE-STRUCTURED-LOCATION;VALUE=URI;X-ADDRESS=Richmond Waldorf School 1301 Robin Hood Road Richmond VA 23227 United States;X-APPLE-RADIUS=500;X-TITLE=1301 Robin Hood Road:geo:-77.45361,37.571879
END:VEVENT
BEGIN:VEVENT
DTSTART;TZID=America/New_York:20221020T151500
DTEND;TZID=America/New_York:20221020T163000
DTSTAMP:20260423T152506
CREATED:20220829T132328Z
LAST-MODIFIED:20220829T132546Z
UID:10001662-1666278900-1666283400@richmondwaldorf.com
SUMMARY:Soccer Practice - 6th & 7th Grades
DESCRIPTION:
URL:https://richmondwaldorf.com/event/soccer-practice-6th-and-7th-grades/2022-10-20/
LOCATION:Richmond Waldorf School\, 1301 Robin Hood Road\, Richmond\, VA\, 23227\, United States
CATEGORIES:Athletics
ATTACH;FMTTYPE=:
GEO:37.571879;-77.45361
X-APPLE-STRUCTURED-LOCATION;VALUE=URI;X-ADDRESS=Richmond Waldorf School 1301 Robin Hood Road Richmond VA 23227 United States;X-APPLE-RADIUS=500;X-TITLE=1301 Robin Hood Road:geo:-77.45361,37.571879
END:VEVENT
BEGIN:VEVENT
DTSTART;TZID=America/New_York:20221020T173000
DTEND;TZID=America/New_York:20221020T190000
DTSTAMP:20260423T152506
CREATED:20220729T191943Z
LAST-MODIFIED:20221003T171455Z
UID:10001647-1666287000-1666292400@richmondwaldorf.com
SUMMARY:Parent Education Series w/ Special Guest Raelee Pierce\, Simplicity Parenting
DESCRIPTION:As part of Richmond Waldorf School’s ongoing Parent Education series\, RWS is excited to announce a Simplicity Parenting workshop led by guest speaker\, Raelee Pierce\, a Parent Educator and Coach for over 20 years. She will be at Richmond Waldorf School on Thursday\, October 20 at 5:30 pm for a special workshop to give parents the tools to navigate a “too much” world. This event is open to the public and geared towards parents of children\, age birth through 2nd grade.  \nThis parenting workshop is based upon the bestselling book “Simplicity Parenting” by Kim John Payne. This approach shares how small\, doable steps can lead to a simpler\, more connected home life. These revolutionary parenting tools can help parents create the life they want for themselves and their children.  \nThe goals of this workshop are to help parents have….. \n\nLess worry\nHappier Kids\nBetter relationships\nAnd more confidence! \n\nToday’s “too much\, too soon” culture takes the fun out of parenting and keeps children from having the kind of childhood that helps them thrive and be happy. Fortunately\, Simplicity Parenting can offer a different path. We are excited to share these ideas with you\, and hope to have many Northside families take advantage of this unique opportunity.  \nRecommended $5 donation at the door. To attend\, come to Richmond Waldorf School\, 1301 Robin Hood Road\, Richmond VA at 5:30 pm on Thursday\, October 20. To learn more about the event\, call Rachel Davis at 804-377-8024 ext 225 or email at rdavis@richmondwaldorf.com.
URL:https://richmondwaldorf.com/event/parent-education-night-w-special-guest-raelee-pierce-simplicity-parenting/
LOCATION:Richmond Waldorf School\, 1301 Robin Hood Road\, Richmond\, VA\, 23227\, United States
CATEGORIES:Public Events,School Event
ATTACH;FMTTYPE=image/png:https://richmondwaldorf.com/wp-content/uploads/2022/07/3F3BCB043FCF179DA8F5C580CFE08541_107810895.png
GEO:37.571879;-77.45361
X-APPLE-STRUCTURED-LOCATION;VALUE=URI;X-ADDRESS=Richmond Waldorf School 1301 Robin Hood Road Richmond VA 23227 United States;X-APPLE-RADIUS=500;X-TITLE=1301 Robin Hood Road:geo:-77.45361,37.571879
END:VEVENT
BEGIN:VEVENT
DTSTART;TZID=America/New_York:20221021T170000
DTEND;TZID=America/New_York:20221021T180000
DTSTAMP:20260423T152506
CREATED:20220915T150733Z
LAST-MODIFIED:20220919T134114Z
UID:10001635-1666371600-1666375200@richmondwaldorf.com
SUMMARY:Soccer Game vs Sabot
DESCRIPTION:
URL:https://richmondwaldorf.com/event/soccer-game-vs-sabot-2/
LOCATION:Sabot at Stony Point\, 3400 Stony Point Road\, Richmond\, VA\, 23235\, United States
CATEGORIES:Athletics
ATTACH;FMTTYPE=:
GEO:37.5464564;-77.5690526
X-APPLE-STRUCTURED-LOCATION;VALUE=URI;X-ADDRESS=Sabot at Stony Point 3400 Stony Point Road Richmond VA 23235 United States;X-APPLE-RADIUS=500;X-TITLE=3400 Stony Point Road:geo:-77.5690526,37.5464564
END:VEVENT
BEGIN:VEVENT
DTSTART;TZID=America/New_York:20221022T090000
DTEND;TZID=America/New_York:20221022T110000
DTSTAMP:20260423T152506
CREATED:20220526T142551Z
LAST-MODIFIED:20220719T145852Z
UID:10001604-1666429200-1666436400@richmondwaldorf.com
SUMMARY:Sprouts Class
DESCRIPTION:To express your interest in the Fall 2022 Sprouts classes\, please complete the registration form here. Learn more about the class at \nhttps://richmondwaldorf.com/parent-toddler-program/.
URL:https://richmondwaldorf.com/event/sprouts-class/2022-10-22/
LOCATION:Richmond Waldorf School\, 1301 Robin Hood Road\, Richmond\, VA\, 23227\, United States
CATEGORIES:School Event,Sprouts
ATTACH;FMTTYPE=:
GEO:37.571879;-77.45361
X-APPLE-STRUCTURED-LOCATION;VALUE=URI;X-ADDRESS=Richmond Waldorf School 1301 Robin Hood Road Richmond VA 23227 United States;X-APPLE-RADIUS=500;X-TITLE=1301 Robin Hood Road:geo:-77.45361,37.571879
END:VEVENT
END:VCALENDAR