BEGIN:VCALENDAR
VERSION:2.0
PRODID:-//Richmond Waldorf School - ECPv6.15.20//NONSGML v1.0//EN
CALSCALE:GREGORIAN
METHOD:PUBLISH
X-WR-CALNAME:Richmond Waldorf School
X-ORIGINAL-URL:https://richmondwaldorf.com
X-WR-CALDESC:Events for Richmond Waldorf School
REFRESH-INTERVAL;VALUE=DURATION:PT1H
X-Robots-Tag:noindex
X-PUBLISHED-TTL:PT1H
BEGIN:VTIMEZONE
TZID:America/New_York
BEGIN:DAYLIGHT
TZOFFSETFROM:-0500
TZOFFSETTO:-0400
TZNAME:EDT
DTSTART:20210314T070000
END:DAYLIGHT
BEGIN:STANDARD
TZOFFSETFROM:-0400
TZOFFSETTO:-0500
TZNAME:EST
DTSTART:20211107T060000
END:STANDARD
BEGIN:DAYLIGHT
TZOFFSETFROM:-0500
TZOFFSETTO:-0400
TZNAME:EDT
DTSTART:20220313T070000
END:DAYLIGHT
BEGIN:STANDARD
TZOFFSETFROM:-0400
TZOFFSETTO:-0500
TZNAME:EST
DTSTART:20221106T060000
END:STANDARD
BEGIN:DAYLIGHT
TZOFFSETFROM:-0500
TZOFFSETTO:-0400
TZNAME:EDT
DTSTART:20230312T070000
END:DAYLIGHT
BEGIN:STANDARD
TZOFFSETFROM:-0400
TZOFFSETTO:-0500
TZNAME:EST
DTSTART:20231105T060000
END:STANDARD
END:VTIMEZONE
BEGIN:VEVENT
DTSTART;TZID=America/New_York:20221025T151500
DTEND;TZID=America/New_York:20221025T163000
DTSTAMP:20260422T174722
CREATED:20220829T132227Z
LAST-MODIFIED:20220829T132227Z
UID:10001654-1666710900-1666715400@richmondwaldorf.com
SUMMARY:Soccer Practice - 6th & 7th Grades
DESCRIPTION:
URL:https://richmondwaldorf.com/event/soccer-practice-6th-7th-grades/2022-10-25/
LOCATION:Richmond Waldorf School\, 1301 Robin Hood Road\, Richmond\, VA\, 23227\, United States
CATEGORIES:Athletics
ATTACH;FMTTYPE=:
GEO:37.571879;-77.45361
X-APPLE-STRUCTURED-LOCATION;VALUE=URI;X-ADDRESS=Richmond Waldorf School 1301 Robin Hood Road Richmond VA 23227 United States;X-APPLE-RADIUS=500;X-TITLE=1301 Robin Hood Road:geo:-77.45361,37.571879
END:VEVENT
BEGIN:VEVENT
DTSTART;TZID=America/New_York:20221026T090000
DTEND;TZID=America/New_York:20221026T140000
DTSTAMP:20260422T174722
CREATED:20221006T185355Z
LAST-MODIFIED:20221006T185739Z
UID:10001670-1666774800-1666792800@richmondwaldorf.com
SUMMARY:Pumpkin Patch Field Trip: 1st & 7th Grades
DESCRIPTION:
URL:https://richmondwaldorf.com/event/pumpkin-patch-field-trip-1st-7th-grades/
LOCATION:Richmond Waldorf School\, 1301 Robin Hood Road\, Richmond\, VA\, 23227\, United States
ATTACH;FMTTYPE=:
GEO:37.571879;-77.45361
X-APPLE-STRUCTURED-LOCATION;VALUE=URI;X-ADDRESS=Richmond Waldorf School 1301 Robin Hood Road Richmond VA 23227 United States;X-APPLE-RADIUS=500;X-TITLE=1301 Robin Hood Road:geo:-77.45361,37.571879
END:VEVENT
BEGIN:VEVENT
DTSTART;TZID=America/New_York:20221026T151500
DTEND;TZID=America/New_York:20221026T163000
DTSTAMP:20260422T174722
CREATED:20220829T132443Z
LAST-MODIFIED:20220829T132641Z
UID:10001297-1666797300-1666801800@richmondwaldorf.com
SUMMARY:Soccer Practice - 5th Grade
DESCRIPTION:
URL:https://richmondwaldorf.com/event/soccer-practice-5th-grade-3/2022-10-26/
LOCATION:Richmond Waldorf School\, 1301 Robin Hood Road\, Richmond\, VA\, 23227\, United States
CATEGORIES:Athletics
ATTACH;FMTTYPE=:
GEO:37.571879;-77.45361
X-APPLE-STRUCTURED-LOCATION;VALUE=URI;X-ADDRESS=Richmond Waldorf School 1301 Robin Hood Road Richmond VA 23227 United States;X-APPLE-RADIUS=500;X-TITLE=1301 Robin Hood Road:geo:-77.45361,37.571879
END:VEVENT
BEGIN:VEVENT
DTSTART;TZID=America/New_York:20221027T083000
DTEND;TZID=America/New_York:20221027T090000
DTSTAMP:20260422T174722
CREATED:20221004T120053Z
LAST-MODIFIED:20221004T120053Z
UID:10001666-1666859400-1666861200@richmondwaldorf.com
SUMMARY:Halloween Parade
DESCRIPTION:
URL:https://richmondwaldorf.com/event/halloween-parade-2/
LOCATION:Richmond Waldorf School\, 1301 Robin Hood Road\, Richmond\, VA\, 23227\, United States
CATEGORIES:Class Plays & Events,School Event
ATTACH;FMTTYPE=:
GEO:37.571879;-77.45361
X-APPLE-STRUCTURED-LOCATION;VALUE=URI;X-ADDRESS=Richmond Waldorf School 1301 Robin Hood Road Richmond VA 23227 United States;X-APPLE-RADIUS=500;X-TITLE=1301 Robin Hood Road:geo:-77.45361,37.571879
END:VEVENT
BEGIN:VEVENT
DTSTART;TZID=America/New_York:20221027T151500
DTEND;TZID=America/New_York:20221027T163000
DTSTAMP:20260422T174722
CREATED:20220829T132328Z
LAST-MODIFIED:20220829T132546Z
UID:10001663-1666883700-1666888200@richmondwaldorf.com
SUMMARY:Soccer Practice - 6th & 7th Grades
DESCRIPTION:
URL:https://richmondwaldorf.com/event/soccer-practice-6th-and-7th-grades/2022-10-27/
LOCATION:Richmond Waldorf School\, 1301 Robin Hood Road\, Richmond\, VA\, 23227\, United States
CATEGORIES:Athletics
ATTACH;FMTTYPE=:
GEO:37.571879;-77.45361
X-APPLE-STRUCTURED-LOCATION;VALUE=URI;X-ADDRESS=Richmond Waldorf School 1301 Robin Hood Road Richmond VA 23227 United States;X-APPLE-RADIUS=500;X-TITLE=1301 Robin Hood Road:geo:-77.45361,37.571879
END:VEVENT
BEGIN:VEVENT
DTSTART;TZID=America/New_York:20221027T173000
DTEND;TZID=America/New_York:20221027T193000
DTSTAMP:20260422T174722
CREATED:20221019T204219Z
LAST-MODIFIED:20221019T204220Z
UID:10001730-1666891800-1666899000@richmondwaldorf.com
SUMMARY:BOT Meeting
DESCRIPTION:
URL:https://richmondwaldorf.com/event/bot-meeting-2-2/2022-10-27/
LOCATION:Richmond Waldorf School\, 1301 Robin Hood Road\, Richmond\, VA\, 23227\, United States
CATEGORIES:BOT Meetings
ATTACH;FMTTYPE=:
GEO:37.571879;-77.45361
X-APPLE-STRUCTURED-LOCATION;VALUE=URI;X-ADDRESS=Richmond Waldorf School 1301 Robin Hood Road Richmond VA 23227 United States;X-APPLE-RADIUS=500;X-TITLE=1301 Robin Hood Road:geo:-77.45361,37.571879
END:VEVENT
BEGIN:VEVENT
DTSTART;VALUE=DATE:20221028
DTEND;VALUE=DATE:20221029
DTSTAMP:20260422T174722
CREATED:20220616T195612Z
LAST-MODIFIED:20220616T195803Z
UID:10000801-1666915200-1667001599@richmondwaldorf.com
SUMMARY:CLOSED - Parent-Teacher Conferences
DESCRIPTION:
URL:https://richmondwaldorf.com/event/closed-parent-teacher-conferences/
LOCATION:Richmond Waldorf School\, 1301 Robin Hood Road\, Richmond\, VA\, 23227\, United States
CATEGORIES:School Closings
ATTACH;FMTTYPE=:
GEO:37.571879;-77.45361
X-APPLE-STRUCTURED-LOCATION;VALUE=URI;X-ADDRESS=Richmond Waldorf School 1301 Robin Hood Road Richmond VA 23227 United States;X-APPLE-RADIUS=500;X-TITLE=1301 Robin Hood Road:geo:-77.45361,37.571879
END:VEVENT
BEGIN:VEVENT
DTSTART;TZID=America/New_York:20221028T170000
DTEND;TZID=America/New_York:20221028T180000
DTSTAMP:20260422T174722
CREATED:20220915T151516Z
LAST-MODIFIED:20220915T151516Z
UID:10001637-1666976400-1666980000@richmondwaldorf.com
SUMMARY:Soccer Game vs Veritas
DESCRIPTION:
URL:https://richmondwaldorf.com/event/soccer-game-vs-veritas-2/
LOCATION:Sabot at Stony Point\, 3400 Stony Point Road\, Richmond\, VA\, 23235\, United States
CATEGORIES:Athletics
ATTACH;FMTTYPE=:
GEO:37.5464564;-77.5690526
X-APPLE-STRUCTURED-LOCATION;VALUE=URI;X-ADDRESS=Sabot at Stony Point 3400 Stony Point Road Richmond VA 23235 United States;X-APPLE-RADIUS=500;X-TITLE=3400 Stony Point Road:geo:-77.5690526,37.5464564
END:VEVENT
BEGIN:VEVENT
DTSTART;TZID=America/New_York:20221029T090000
DTEND;TZID=America/New_York:20221029T110000
DTSTAMP:20260422T174722
CREATED:20220526T142551Z
LAST-MODIFIED:20220719T145852Z
UID:10001605-1667034000-1667041200@richmondwaldorf.com
SUMMARY:Sprouts Class
DESCRIPTION:To express your interest in the Fall 2022 Sprouts classes\, please complete the registration form here. Learn more about the class at \nhttps://richmondwaldorf.com/parent-toddler-program/.
URL:https://richmondwaldorf.com/event/sprouts-class/2022-10-29/
LOCATION:Richmond Waldorf School\, 1301 Robin Hood Road\, Richmond\, VA\, 23227\, United States
CATEGORIES:School Event,Sprouts
ATTACH;FMTTYPE=:
GEO:37.571879;-77.45361
X-APPLE-STRUCTURED-LOCATION;VALUE=URI;X-ADDRESS=Richmond Waldorf School 1301 Robin Hood Road Richmond VA 23227 United States;X-APPLE-RADIUS=500;X-TITLE=1301 Robin Hood Road:geo:-77.45361,37.571879
END:VEVENT
END:VCALENDAR