BEGIN:VCALENDAR
VERSION:2.0
PRODID:-//Richmond Waldorf School - ECPv6.15.20//NONSGML v1.0//EN
CALSCALE:GREGORIAN
METHOD:PUBLISH
X-ORIGINAL-URL:https://richmondwaldorf.com
X-WR-CALDESC:Events for Richmond Waldorf School
REFRESH-INTERVAL;VALUE=DURATION:PT1H
X-Robots-Tag:noindex
X-PUBLISHED-TTL:PT1H
BEGIN:VTIMEZONE
TZID:America/New_York
BEGIN:DAYLIGHT
TZOFFSETFROM:-0500
TZOFFSETTO:-0400
TZNAME:EDT
DTSTART:20230312T070000
END:DAYLIGHT
BEGIN:STANDARD
TZOFFSETFROM:-0400
TZOFFSETTO:-0500
TZNAME:EST
DTSTART:20231105T060000
END:STANDARD
BEGIN:DAYLIGHT
TZOFFSETFROM:-0500
TZOFFSETTO:-0400
TZNAME:EDT
DTSTART:20240310T070000
END:DAYLIGHT
BEGIN:STANDARD
TZOFFSETFROM:-0400
TZOFFSETTO:-0500
TZNAME:EST
DTSTART:20241103T060000
END:STANDARD
BEGIN:DAYLIGHT
TZOFFSETFROM:-0500
TZOFFSETTO:-0400
TZNAME:EDT
DTSTART:20250309T070000
END:DAYLIGHT
BEGIN:STANDARD
TZOFFSETFROM:-0400
TZOFFSETTO:-0500
TZNAME:EST
DTSTART:20251102T060000
END:STANDARD
END:VTIMEZONE
BEGIN:VEVENT
DTSTART;VALUE=DATE:20240304
DTEND;VALUE=DATE:20240305
DTSTAMP:20260420T185904
CREATED:20230313T183227Z
LAST-MODIFIED:20230721T141139Z
UID:10001984-1709539200-1709571600@richmondwaldorf.com
SUMMARY:NO CLASSES - Parent Teacher Conferences
DESCRIPTION:
URL:https://richmondwaldorf.com/event/school-closed-parent-teacher-conferences-2/2024-03-04/
LOCATION:Richmond Waldorf School\, 1301 Robin Hood Road\, Richmond\, VA\, 23227\, United States
CATEGORIES:School Event
ATTACH;FMTTYPE=:
GEO:37.571879;-77.45361
X-APPLE-STRUCTURED-LOCATION;VALUE=URI;X-ADDRESS=Richmond Waldorf School 1301 Robin Hood Road Richmond VA 23227 United States;X-APPLE-RADIUS=500;X-TITLE=1301 Robin Hood Road:geo:-77.45361,37.571879
END:VEVENT
BEGIN:VEVENT
DTSTART;TZID=America/New_York:20240307T083000
DTEND;TZID=America/New_York:20240307T093000
DTSTAMP:20260420T185904
CREATED:20230815T132559Z
LAST-MODIFIED:20230815T160800Z
UID:10002108-1709800200-1709803800@richmondwaldorf.com
SUMMARY:8th Grade Play
DESCRIPTION:
URL:https://richmondwaldorf.com/event/8th-grade-play-7/2024-03-07/1/
LOCATION:Richmond Waldorf School\, 1301 Robin Hood Road\, Richmond\, VA\, 23227\, United States
CATEGORIES:Class Plays & Events
ATTACH;FMTTYPE=:
GEO:37.571879;-77.45361
X-APPLE-STRUCTURED-LOCATION;VALUE=URI;X-ADDRESS=Richmond Waldorf School 1301 Robin Hood Road Richmond VA 23227 United States;X-APPLE-RADIUS=500;X-TITLE=1301 Robin Hood Road:geo:-77.45361,37.571879
END:VEVENT
BEGIN:VEVENT
DTSTART;TZID=America/New_York:20240307T100000
DTEND;TZID=America/New_York:20240307T130000
DTSTAMP:20260420T185904
CREATED:20240222T140634Z
LAST-MODIFIED:20240222T141007Z
UID:10002452-1709805600-1709816400@richmondwaldorf.com
SUMMARY:4th Grade Field Trip to Alice in Wonderland
DESCRIPTION:
URL:https://richmondwaldorf.com/event/4th-grade-field-trip-to-alice-in-wonderland/
LOCATION:Richmond Waldorf School\, 1301 Robin Hood Road\, Richmond\, VA\, 23227\, United States
CATEGORIES:Field Trips
ATTACH;FMTTYPE=:
GEO:37.571879;-77.45361
X-APPLE-STRUCTURED-LOCATION;VALUE=URI;X-ADDRESS=Richmond Waldorf School 1301 Robin Hood Road Richmond VA 23227 United States;X-APPLE-RADIUS=500;X-TITLE=1301 Robin Hood Road:geo:-77.45361,37.571879
END:VEVENT
BEGIN:VEVENT
DTSTART;TZID=America/New_York:20240307T173000
DTEND;TZID=America/New_York:20240307T183000
DTSTAMP:20260420T185904
CREATED:20230815T132559Z
LAST-MODIFIED:20230815T160800Z
UID:10002109-1709832600-1709836200@richmondwaldorf.com
SUMMARY:8th Grade Play
DESCRIPTION:
URL:https://richmondwaldorf.com/event/8th-grade-play-7/2024-03-07/2/
LOCATION:Richmond Waldorf School\, 1301 Robin Hood Road\, Richmond\, VA\, 23227\, United States
CATEGORIES:Class Plays & Events
ATTACH;FMTTYPE=:
GEO:37.571879;-77.45361
X-APPLE-STRUCTURED-LOCATION;VALUE=URI;X-ADDRESS=Richmond Waldorf School 1301 Robin Hood Road Richmond VA 23227 United States;X-APPLE-RADIUS=500;X-TITLE=1301 Robin Hood Road:geo:-77.45361,37.571879
END:VEVENT
BEGIN:VEVENT
DTSTART;TZID=America/New_York:20240308T083000
DTEND;TZID=America/New_York:20240308T093000
DTSTAMP:20260420T185904
CREATED:20230815T132559Z
LAST-MODIFIED:20230815T160800Z
UID:10002110-1709886600-1709890200@richmondwaldorf.com
SUMMARY:8th Grade Play
DESCRIPTION:
URL:https://richmondwaldorf.com/event/8th-grade-play-7/2024-03-08/
LOCATION:Richmond Waldorf School\, 1301 Robin Hood Road\, Richmond\, VA\, 23227\, United States
CATEGORIES:Class Plays & Events
ATTACH;FMTTYPE=:
GEO:37.571879;-77.45361
X-APPLE-STRUCTURED-LOCATION;VALUE=URI;X-ADDRESS=Richmond Waldorf School 1301 Robin Hood Road Richmond VA 23227 United States;X-APPLE-RADIUS=500;X-TITLE=1301 Robin Hood Road:geo:-77.45361,37.571879
END:VEVENT
BEGIN:VEVENT
DTSTART;TZID=America/New_York:20240309T173000
DTEND;TZID=America/New_York:20240309T193000
DTSTAMP:20260420T185904
CREATED:20240123T155010Z
LAST-MODIFIED:20240123T155010Z
UID:10002395-1710005400-1710012600@richmondwaldorf.com
SUMMARY:Adult Games Night
DESCRIPTION:Let’s have some fun for the grownups! Sponsored by the Parents Association\, we would love to invite parents and caregivers to join us in the gym on Saturday\, March 9.
URL:https://richmondwaldorf.com/event/adult-games-night/
LOCATION:Richmond Waldorf School\, 1301 Robin Hood Road\, Richmond\, VA\, 23227\, United States
CATEGORIES:PA Event,School Event
ATTACH;FMTTYPE=:
GEO:37.571879;-77.45361
X-APPLE-STRUCTURED-LOCATION;VALUE=URI;X-ADDRESS=Richmond Waldorf School 1301 Robin Hood Road Richmond VA 23227 United States;X-APPLE-RADIUS=500;X-TITLE=1301 Robin Hood Road:geo:-77.45361,37.571879
END:VEVENT
END:VCALENDAR