BEGIN:VCALENDAR
VERSION:2.0
PRODID:-//Richmond Waldorf School - ECPv6.15.20//NONSGML v1.0//EN
CALSCALE:GREGORIAN
METHOD:PUBLISH
X-ORIGINAL-URL:https://richmondwaldorf.com
X-WR-CALDESC:Events for Richmond Waldorf School
REFRESH-INTERVAL;VALUE=DURATION:PT1H
X-Robots-Tag:noindex
X-PUBLISHED-TTL:PT1H
BEGIN:VTIMEZONE
TZID:America/New_York
BEGIN:DAYLIGHT
TZOFFSETFROM:-0500
TZOFFSETTO:-0400
TZNAME:EDT
DTSTART:20230312T070000
END:DAYLIGHT
BEGIN:STANDARD
TZOFFSETFROM:-0400
TZOFFSETTO:-0500
TZNAME:EST
DTSTART:20231105T060000
END:STANDARD
BEGIN:DAYLIGHT
TZOFFSETFROM:-0500
TZOFFSETTO:-0400
TZNAME:EDT
DTSTART:20240310T070000
END:DAYLIGHT
BEGIN:STANDARD
TZOFFSETFROM:-0400
TZOFFSETTO:-0500
TZNAME:EST
DTSTART:20241103T060000
END:STANDARD
BEGIN:DAYLIGHT
TZOFFSETFROM:-0500
TZOFFSETTO:-0400
TZNAME:EDT
DTSTART:20250309T070000
END:DAYLIGHT
BEGIN:STANDARD
TZOFFSETFROM:-0400
TZOFFSETTO:-0500
TZNAME:EST
DTSTART:20251102T060000
END:STANDARD
END:VTIMEZONE
BEGIN:VEVENT
DTSTART;TZID=America/New_York:20240319T150000
DTEND;TZID=America/New_York:20240319T163000
DTSTAMP:20260425T094503
CREATED:20240311T125800Z
LAST-MODIFIED:20240314T175805Z
UID:10002456-1710860400-1710865800@richmondwaldorf.com
SUMMARY:Soccer Practice
DESCRIPTION:
URL:https://richmondwaldorf.com/event/soccer-practice-14/2024-03-19/
LOCATION:Richmond Waldorf School\, 1301 Robin Hood Road\, Richmond\, VA\, 23227\, United States
CATEGORIES:Athletics
ATTACH;FMTTYPE=:
GEO:37.571879;-77.45361
X-APPLE-STRUCTURED-LOCATION;VALUE=URI;X-ADDRESS=Richmond Waldorf School 1301 Robin Hood Road Richmond VA 23227 United States;X-APPLE-RADIUS=500;X-TITLE=1301 Robin Hood Road:geo:-77.45361,37.571879
END:VEVENT
BEGIN:VEVENT
DTSTART;TZID=America/New_York:20240319T173000
DTEND;TZID=America/New_York:20240319T190000
DTSTAMP:20260425T094503
CREATED:20240206T204314Z
LAST-MODIFIED:20240206T204459Z
UID:10002405-1710869400-1710874800@richmondwaldorf.com
SUMMARY:8th Grade Class Meeting
DESCRIPTION:
URL:https://richmondwaldorf.com/event/eigth-grade-class-meeting/
LOCATION:Richmond Waldorf School\, 1301 Robin Hood Road\, Richmond\, VA\, 23227\, United States
CATEGORIES:Class Meetings
ATTACH;FMTTYPE=:
GEO:37.571879;-77.45361
X-APPLE-STRUCTURED-LOCATION;VALUE=URI;X-ADDRESS=Richmond Waldorf School 1301 Robin Hood Road Richmond VA 23227 United States;X-APPLE-RADIUS=500;X-TITLE=1301 Robin Hood Road:geo:-77.45361,37.571879
END:VEVENT
BEGIN:VEVENT
DTSTART;TZID=America/New_York:20240320T083000
DTEND;TZID=America/New_York:20240320T093000
DTSTAMP:20260425T094503
CREATED:20230807T165409Z
LAST-MODIFIED:20230807T165409Z
UID:10002088-1710923400-1710927000@richmondwaldorf.com
SUMMARY:5th Grade Class Play
DESCRIPTION:
URL:https://richmondwaldorf.com/event/5th-grade-class-play-2/2024-03-20/1/
LOCATION:Richmond Waldorf School\, 1301 Robin Hood Road\, Richmond\, VA\, 23227\, United States
CATEGORIES:Class Plays & Events
ATTACH;FMTTYPE=:
GEO:37.571879;-77.45361
X-APPLE-STRUCTURED-LOCATION;VALUE=URI;X-ADDRESS=Richmond Waldorf School 1301 Robin Hood Road Richmond VA 23227 United States;X-APPLE-RADIUS=500;X-TITLE=1301 Robin Hood Road:geo:-77.45361,37.571879
END:VEVENT
BEGIN:VEVENT
DTSTART;TZID=America/New_York:20240320T173000
DTEND;TZID=America/New_York:20240320T183000
DTSTAMP:20260425T094503
CREATED:20230807T165409Z
LAST-MODIFIED:20230807T165409Z
UID:10002089-1710955800-1710959400@richmondwaldorf.com
SUMMARY:5th Grade Class Play
DESCRIPTION:
URL:https://richmondwaldorf.com/event/5th-grade-class-play-2/2024-03-20/2/
LOCATION:Richmond Waldorf School\, 1301 Robin Hood Road\, Richmond\, VA\, 23227\, United States
CATEGORIES:Class Plays & Events
ATTACH;FMTTYPE=:
GEO:37.571879;-77.45361
X-APPLE-STRUCTURED-LOCATION;VALUE=URI;X-ADDRESS=Richmond Waldorf School 1301 Robin Hood Road Richmond VA 23227 United States;X-APPLE-RADIUS=500;X-TITLE=1301 Robin Hood Road:geo:-77.45361,37.571879
END:VEVENT
BEGIN:VEVENT
DTSTART;TZID=America/New_York:20240321T083000
DTEND;TZID=America/New_York:20240321T093000
DTSTAMP:20260425T094503
CREATED:20230807T165409Z
LAST-MODIFIED:20230807T165409Z
UID:10002090-1711009800-1711013400@richmondwaldorf.com
SUMMARY:5th Grade Class Play
DESCRIPTION:
URL:https://richmondwaldorf.com/event/5th-grade-class-play-2/2024-03-21/
LOCATION:Richmond Waldorf School\, 1301 Robin Hood Road\, Richmond\, VA\, 23227\, United States
CATEGORIES:Class Plays & Events
ATTACH;FMTTYPE=:
GEO:37.571879;-77.45361
X-APPLE-STRUCTURED-LOCATION;VALUE=URI;X-ADDRESS=Richmond Waldorf School 1301 Robin Hood Road Richmond VA 23227 United States;X-APPLE-RADIUS=500;X-TITLE=1301 Robin Hood Road:geo:-77.45361,37.571879
END:VEVENT
BEGIN:VEVENT
DTSTART;TZID=America/New_York:20240321T150000
DTEND;TZID=America/New_York:20240321T163000
DTSTAMP:20260425T094503
CREATED:20240311T130322Z
LAST-MODIFIED:20240501T140355Z
UID:10002518-1711033200-1711038600@richmondwaldorf.com
SUMMARY:Soccer Practice
DESCRIPTION:
URL:https://richmondwaldorf.com/event/soccer-practice-15/2024-03-21/
LOCATION:Richmond Waldorf School\, 1301 Robin Hood Road\, Richmond\, VA\, 23227\, United States
CATEGORIES:Athletics
ATTACH;FMTTYPE=:
GEO:37.571879;-77.45361
X-APPLE-STRUCTURED-LOCATION;VALUE=URI;X-ADDRESS=Richmond Waldorf School 1301 Robin Hood Road Richmond VA 23227 United States;X-APPLE-RADIUS=500;X-TITLE=1301 Robin Hood Road:geo:-77.45361,37.571879
END:VEVENT
BEGIN:VEVENT
DTSTART;TZID=America/New_York:20240321T183000
DTEND;TZID=America/New_York:20240321T193000
DTSTAMP:20260425T094503
CREATED:20230807T152603Z
LAST-MODIFIED:20240112T144143Z
UID:10002085-1711045800-1711049400@richmondwaldorf.com
SUMMARY:Solo & Small Ensemble Performances
DESCRIPTION:
URL:https://richmondwaldorf.com/event/solo-small-ensemble-performances-2/
LOCATION:Richmond Waldorf School\, 1301 Robin Hood Road\, Richmond\, VA\, 23227\, United States
CATEGORIES:Class Plays & Events
ATTACH;FMTTYPE=:
GEO:37.571879;-77.45361
X-APPLE-STRUCTURED-LOCATION;VALUE=URI;X-ADDRESS=Richmond Waldorf School 1301 Robin Hood Road Richmond VA 23227 United States;X-APPLE-RADIUS=500;X-TITLE=1301 Robin Hood Road:geo:-77.45361,37.571879
END:VEVENT
BEGIN:VEVENT
DTSTART;VALUE=DATE:20240322
DTEND;VALUE=DATE:20240325
DTSTAMP:20260425T094503
CREATED:20230809T211730Z
LAST-MODIFIED:20230809T211730Z
UID:10002102-1711065600-1711324799@richmondwaldorf.com
SUMMARY:WECAN / AWSNA Southeast Regional Conference in Louisville KY
DESCRIPTION:WECAN / AWSNA Southeast Regional Conference\, Healing the Past: An Educational Approach to Trauma
URL:https://richmondwaldorf.com/event/wecan-awsna-southeast-regional-conference-in-louisville-ky/
LOCATION:Waldorf School of Louisville\, 3110 Rock Creek Dr\, Louisville\, KY\, 40207
CATEGORIES:Teacher Development
ATTACH;FMTTYPE=:
END:VEVENT
END:VCALENDAR