BEGIN:VCALENDAR
VERSION:2.0
PRODID:-//Richmond Waldorf School - ECPv6.15.20//NONSGML v1.0//EN
CALSCALE:GREGORIAN
METHOD:PUBLISH
X-ORIGINAL-URL:https://richmondwaldorf.com
X-WR-CALDESC:Events for Richmond Waldorf School
REFRESH-INTERVAL;VALUE=DURATION:PT1H
X-Robots-Tag:noindex
X-PUBLISHED-TTL:PT1H
BEGIN:VTIMEZONE
TZID:America/New_York
BEGIN:DAYLIGHT
TZOFFSETFROM:-0500
TZOFFSETTO:-0400
TZNAME:EDT
DTSTART:20240310T070000
END:DAYLIGHT
BEGIN:STANDARD
TZOFFSETFROM:-0400
TZOFFSETTO:-0500
TZNAME:EST
DTSTART:20241103T060000
END:STANDARD
BEGIN:DAYLIGHT
TZOFFSETFROM:-0500
TZOFFSETTO:-0400
TZNAME:EDT
DTSTART:20250309T070000
END:DAYLIGHT
BEGIN:STANDARD
TZOFFSETFROM:-0400
TZOFFSETTO:-0500
TZNAME:EST
DTSTART:20251102T060000
END:STANDARD
BEGIN:DAYLIGHT
TZOFFSETFROM:-0500
TZOFFSETTO:-0400
TZNAME:EDT
DTSTART:20260308T070000
END:DAYLIGHT
BEGIN:STANDARD
TZOFFSETFROM:-0400
TZOFFSETTO:-0500
TZNAME:EST
DTSTART:20261101T060000
END:STANDARD
END:VTIMEZONE
BEGIN:VEVENT
DTSTART;TZID=America/New_York:20250113T151500
DTEND;TZID=America/New_York:20250113T170000
DTSTAMP:20260420T165935
CREATED:20241205T143245Z
LAST-MODIFIED:20241205T143802Z
UID:10002864-1736781300-1736787600@richmondwaldorf.com
SUMMARY:Basketball Practice
DESCRIPTION:
URL:https://richmondwaldorf.com/event/basketball-practice-5/2025-01-13/
LOCATION:Richmond Waldorf School\, 1301 Robin Hood Road\, Richmond\, VA\, 23227\, United States
CATEGORIES:Athletics
ATTACH;FMTTYPE=:
GEO:37.571879;-77.45361
X-APPLE-STRUCTURED-LOCATION;VALUE=URI;X-ADDRESS=Richmond Waldorf School 1301 Robin Hood Road Richmond VA 23227 United States;X-APPLE-RADIUS=500;X-TITLE=1301 Robin Hood Road:geo:-77.45361,37.571879
END:VEVENT
BEGIN:VEVENT
DTSTART;TZID=America/New_York:20250113T180000
DTEND;TZID=America/New_York:20250113T190000
DTSTAMP:20260420T165935
CREATED:20250108T134802Z
LAST-MODIFIED:20250108T134802Z
UID:10002880-1736791200-1736794800@richmondwaldorf.com
SUMMARY:Girl’s Basketball Game: RWS v. St. Catherines @ St. Catherines
DESCRIPTION:
URL:https://richmondwaldorf.com/event/girls-basketball-game-rws-v-st-catherines-st-catherines-2/
LOCATION:Richmond Waldorf School\, 1301 Robin Hood Road\, Richmond\, VA\, 23227\, United States
CATEGORIES:Athletics
ATTACH;FMTTYPE=:
GEO:37.571879;-77.45361
X-APPLE-STRUCTURED-LOCATION;VALUE=URI;X-ADDRESS=Richmond Waldorf School 1301 Robin Hood Road Richmond VA 23227 United States;X-APPLE-RADIUS=500;X-TITLE=1301 Robin Hood Road:geo:-77.45361,37.571879
END:VEVENT
BEGIN:VEVENT
DTSTART;TZID=America/New_York:20250114T190000
DTEND;TZID=America/New_York:20250114T200000
DTSTAMP:20260420T165935
CREATED:20241122T164147Z
LAST-MODIFIED:20241122T164147Z
UID:10002731-1736881200-1736884800@richmondwaldorf.com
SUMMARY:RWS Boy's Basketball Game: RWS v. RTA
DESCRIPTION:
URL:https://richmondwaldorf.com/event/rws-boys-basketball-game-rws-v-rta/
LOCATION:Richmond Waldorf School\, 1301 Robin Hood Road\, Richmond\, VA\, 23227\, United States
CATEGORIES:Athletics
ATTACH;FMTTYPE=:
GEO:37.571879;-77.45361
X-APPLE-STRUCTURED-LOCATION;VALUE=URI;X-ADDRESS=Richmond Waldorf School 1301 Robin Hood Road Richmond VA 23227 United States;X-APPLE-RADIUS=500;X-TITLE=1301 Robin Hood Road:geo:-77.45361,37.571879
END:VEVENT
BEGIN:VEVENT
DTSTART;TZID=America/New_York:20250115T151500
DTEND;TZID=America/New_York:20250115T170000
DTSTAMP:20260420T165935
CREATED:20241205T143245Z
LAST-MODIFIED:20241205T143802Z
UID:10002865-1736954100-1736960400@richmondwaldorf.com
SUMMARY:Basketball Practice
DESCRIPTION:
URL:https://richmondwaldorf.com/event/basketball-practice-5/2025-01-15/
LOCATION:Richmond Waldorf School\, 1301 Robin Hood Road\, Richmond\, VA\, 23227\, United States
CATEGORIES:Athletics
ATTACH;FMTTYPE=:
GEO:37.571879;-77.45361
X-APPLE-STRUCTURED-LOCATION;VALUE=URI;X-ADDRESS=Richmond Waldorf School 1301 Robin Hood Road Richmond VA 23227 United States;X-APPLE-RADIUS=500;X-TITLE=1301 Robin Hood Road:geo:-77.45361,37.571879
END:VEVENT
BEGIN:VEVENT
DTSTART;TZID=America/New_York:20250115T174500
DTEND;TZID=America/New_York:20250115T194500
DTSTAMP:20260420T165935
CREATED:20240917T151914Z
LAST-MODIFIED:20240917T151914Z
UID:10002658-1736963100-1736970300@richmondwaldorf.com
SUMMARY:Board Meeting
DESCRIPTION:
URL:https://richmondwaldorf.com/event/board-meeting/2025-01-15/
LOCATION:Richmond Waldorf School\, 1301 Robin Hood Road\, Richmond\, VA\, 23227\, United States
CATEGORIES:BOT Meetings
ATTACH;FMTTYPE=:
GEO:37.571879;-77.45361
X-APPLE-STRUCTURED-LOCATION;VALUE=URI;X-ADDRESS=Richmond Waldorf School 1301 Robin Hood Road Richmond VA 23227 United States;X-APPLE-RADIUS=500;X-TITLE=1301 Robin Hood Road:geo:-77.45361,37.571879
END:VEVENT
BEGIN:VEVENT
DTSTART;TZID=America/New_York:20250116T160000
DTEND;TZID=America/New_York:20250116T170000
DTSTAMP:20260420T165935
CREATED:20241122T164347Z
LAST-MODIFIED:20241122T164347Z
UID:10002732-1737043200-1737046800@richmondwaldorf.com
SUMMARY:Boy's Basketball Game: RWS v. St. Briget
DESCRIPTION:
URL:https://richmondwaldorf.com/event/boys-basketball-game-rws-v-st-briget/
LOCATION:Richmond Waldorf School\, 1301 Robin Hood Road\, Richmond\, VA\, 23227\, United States
CATEGORIES:Athletics
ATTACH;FMTTYPE=:
GEO:37.571879;-77.45361
X-APPLE-STRUCTURED-LOCATION;VALUE=URI;X-ADDRESS=Richmond Waldorf School 1301 Robin Hood Road Richmond VA 23227 United States;X-APPLE-RADIUS=500;X-TITLE=1301 Robin Hood Road:geo:-77.45361,37.571879
END:VEVENT
BEGIN:VEVENT
DTSTART;TZID=America/New_York:20250116T160000
DTEND;TZID=America/New_York:20250116T170000
DTSTAMP:20260420T165935
CREATED:20241215T135407Z
LAST-MODIFIED:20250109T205548Z
UID:10002878-1737043200-1737046800@richmondwaldorf.com
SUMMARY:A Walk Through the Grades: Open House (New Date)
DESCRIPTION:Thursday\, January 16th from 4 pm to 5 pm (Formerly Jan 9) \nProspective families as well as our current Early Childhood families are invited to register for an afternoon tour through the Grades! Grade 1 through 8 will have their classrooms open to explore and Class Teachers will be available to answer any questions. Feel free to drop in for all or part of the event\, or spend your focus in our Grades or Middle School programs. \nQuestions? Contact our Director of Enrollment & Development\, Alexandra Mazeres\, amazeres@richmondwaldorf.com . Kindly RSVP on the Ravenna hub or directly to Alexandra Mazeres. \n 
URL:https://richmondwaldorf.com/event/a-walk-through-the-grades-open-house/
LOCATION:Richmond Waldorf School\, 1301 Robin Hood Road\, Richmond\, VA\, 23227\, United States
CATEGORIES:Open House
ATTACH;FMTTYPE=image/jpeg:https://richmondwaldorf.com/wp-content/uploads/2025/01/Copy-of-Open-House-Nov-5th-10-11pm-ECGrades-5.jpg
GEO:37.571879;-77.45361
X-APPLE-STRUCTURED-LOCATION;VALUE=URI;X-ADDRESS=Richmond Waldorf School 1301 Robin Hood Road Richmond VA 23227 United States;X-APPLE-RADIUS=500;X-TITLE=1301 Robin Hood Road:geo:-77.45361,37.571879
END:VEVENT
BEGIN:VEVENT
DTSTART;TZID=America/New_York:20250117T083000
DTEND;TZID=America/New_York:20250117T090000
DTSTAMP:20260420T165935
CREATED:20241029T163654Z
LAST-MODIFIED:20250109T210742Z
UID:10002719-1737102600-1737104400@richmondwaldorf.com
SUMMARY:MLK Jr Assembly
DESCRIPTION:
URL:https://richmondwaldorf.com/event/mlk-jr-assembly/
LOCATION:Richmond Waldorf School\, 1301 Robin Hood Road\, Richmond\, VA\, 23227\, United States
ATTACH;FMTTYPE=:
GEO:37.571879;-77.45361
X-APPLE-STRUCTURED-LOCATION;VALUE=URI;X-ADDRESS=Richmond Waldorf School 1301 Robin Hood Road Richmond VA 23227 United States;X-APPLE-RADIUS=500;X-TITLE=1301 Robin Hood Road:geo:-77.45361,37.571879
END:VEVENT
BEGIN:VEVENT
DTSTART;TZID=America/New_York:20250117T090000
DTEND;TZID=America/New_York:20250117T220000
DTSTAMP:20260420T165935
CREATED:20250109T210225Z
LAST-MODIFIED:20250109T210225Z
UID:10002883-1737104400-1737151200@richmondwaldorf.com
SUMMARY:Coffee Chat with our Director of Education
DESCRIPTION:Directly following our MLK Jr Assembly\, current families wanting to learn more about Grades are invited to a Coffee Chat with our Director of Education\, Bethany Craig. Bethany will talk more about our structured approach to literacy\, curriculum through the years\, and what to expect in the Early Childhood to Grades transition. Questions? Contact our Director of Enrollment & Development\, Alexandra Mazeres\, amazeres@richmondwaldorf.com. 
URL:https://richmondwaldorf.com/event/coffee-chat-with-our-director-of-education/
LOCATION:Richmond Waldorf School\, 1301 Robin Hood Road\, Richmond\, VA\, 23227\, United States
ATTACH;FMTTYPE=:
GEO:37.571879;-77.45361
X-APPLE-STRUCTURED-LOCATION;VALUE=URI;X-ADDRESS=Richmond Waldorf School 1301 Robin Hood Road Richmond VA 23227 United States;X-APPLE-RADIUS=500;X-TITLE=1301 Robin Hood Road:geo:-77.45361,37.571879
END:VEVENT
BEGIN:VEVENT
DTSTART;TZID=America/New_York:20250117T193000
DTEND;TZID=America/New_York:20250117T203000
DTSTAMP:20260420T165936
CREATED:20241202T140705Z
LAST-MODIFIED:20250117T190342Z
UID:10002742-1737142200-1737145800@richmondwaldorf.com
SUMMARY:Girl's Basketball Game: RWS v. St. Catherines @ Auxiliary
DESCRIPTION:
URL:https://richmondwaldorf.com/event/girls-basketball-game-rws-v-st-catherines-auxiliary/
LOCATION:12829 River Rd\, Richmond\, VA 23238
CATEGORIES:Athletics
ATTACH;FMTTYPE=:
END:VEVENT
END:VCALENDAR