BEGIN:VCALENDAR
VERSION:2.0
PRODID:-//Richmond Waldorf School - ECPv6.15.20//NONSGML v1.0//EN
CALSCALE:GREGORIAN
METHOD:PUBLISH
X-ORIGINAL-URL:https://richmondwaldorf.com
X-WR-CALDESC:Events for Richmond Waldorf School
REFRESH-INTERVAL;VALUE=DURATION:PT1H
X-Robots-Tag:noindex
X-PUBLISHED-TTL:PT1H
BEGIN:VTIMEZONE
TZID:America/New_York
BEGIN:DAYLIGHT
TZOFFSETFROM:-0500
TZOFFSETTO:-0400
TZNAME:EDT
DTSTART:20240310T070000
END:DAYLIGHT
BEGIN:STANDARD
TZOFFSETFROM:-0400
TZOFFSETTO:-0500
TZNAME:EST
DTSTART:20241103T060000
END:STANDARD
BEGIN:DAYLIGHT
TZOFFSETFROM:-0500
TZOFFSETTO:-0400
TZNAME:EDT
DTSTART:20250309T070000
END:DAYLIGHT
BEGIN:STANDARD
TZOFFSETFROM:-0400
TZOFFSETTO:-0500
TZNAME:EST
DTSTART:20251102T060000
END:STANDARD
BEGIN:DAYLIGHT
TZOFFSETFROM:-0500
TZOFFSETTO:-0400
TZNAME:EDT
DTSTART:20260308T070000
END:DAYLIGHT
BEGIN:STANDARD
TZOFFSETFROM:-0400
TZOFFSETTO:-0500
TZNAME:EST
DTSTART:20261101T060000
END:STANDARD
END:VTIMEZONE
BEGIN:VEVENT
DTSTART;TZID=America/New_York:20251027T150000
DTEND;TZID=America/New_York:20251027T170000
DTSTAMP:20260421T213157
CREATED:20250828T142931Z
LAST-MODIFIED:20250828T142931Z
UID:10003064-1761577200-1761584400@richmondwaldorf.com
SUMMARY:Soccer Practice
DESCRIPTION:
URL:https://richmondwaldorf.com/event/soccer-practice-17/2025-10-27/
LOCATION:Richmond Waldorf School\, 1301 Robin Hood Road\, Richmond\, VA\, 23227\, United States
CATEGORIES:Athletics
ATTACH;FMTTYPE=:
GEO:37.571879;-77.45361
X-APPLE-STRUCTURED-LOCATION;VALUE=URI;X-ADDRESS=Richmond Waldorf School 1301 Robin Hood Road Richmond VA 23227 United States;X-APPLE-RADIUS=500;X-TITLE=1301 Robin Hood Road:geo:-77.45361,37.571879
END:VEVENT
BEGIN:VEVENT
DTSTART;TZID=America/New_York:20251028T090000
DTEND;TZID=America/New_York:20251028T140000
DTSTAMP:20260421T213157
CREATED:20251016T153659Z
LAST-MODIFIED:20251016T153659Z
UID:10003085-1761642000-1761660000@richmondwaldorf.com
SUMMARY:1st & 8th Grade Field Trip: Lloyd Family Farms
DESCRIPTION:
URL:https://richmondwaldorf.com/event/1st-8th-grade-field-trip-lloyd-family-farms/
LOCATION:Richmond Waldorf School\, 1301 Robin Hood Road\, Richmond\, VA\, 23227\, United States
ATTACH;FMTTYPE=:
GEO:37.571879;-77.45361
X-APPLE-STRUCTURED-LOCATION;VALUE=URI;X-ADDRESS=Richmond Waldorf School 1301 Robin Hood Road Richmond VA 23227 United States;X-APPLE-RADIUS=500;X-TITLE=1301 Robin Hood Road:geo:-77.45361,37.571879
END:VEVENT
BEGIN:VEVENT
DTSTART;VALUE=DATE:20251029
DTEND;VALUE=DATE:20251030
DTSTAMP:20260421T213157
CREATED:20250226T140802Z
LAST-MODIFIED:20250226T140943Z
UID:10002928-1761696000-1761782399@richmondwaldorf.com
SUMMARY:End of First Quarter
DESCRIPTION:
URL:https://richmondwaldorf.com/event/end-of-first-quarter/
LOCATION:Richmond Waldorf School\, 1301 Robin Hood Road\, Richmond\, VA\, 23227\, United States
ATTACH;FMTTYPE=:
GEO:37.571879;-77.45361
X-APPLE-STRUCTURED-LOCATION;VALUE=URI;X-ADDRESS=Richmond Waldorf School 1301 Robin Hood Road Richmond VA 23227 United States;X-APPLE-RADIUS=500;X-TITLE=1301 Robin Hood Road:geo:-77.45361,37.571879
END:VEVENT
BEGIN:VEVENT
DTSTART;TZID=America/New_York:20251029T093000
DTEND;TZID=America/New_York:20251029T120000
DTSTAMP:20260421T213157
CREATED:20251024T143158Z
LAST-MODIFIED:20251024T143158Z
UID:10003087-1761730200-1761739200@richmondwaldorf.com
SUMMARY:5th and 6th Grade Field Trip to Richmond Symphony: The Science of Sound
DESCRIPTION:
URL:https://richmondwaldorf.com/event/5th-and-6th-grade-field-trip-to-richmond-symphony-the-science-of-sound/
LOCATION:Richmond Waldorf School\, 1301 Robin Hood Road\, Richmond\, VA\, 23227\, United States
CATEGORIES:Field Trips
ATTACH;FMTTYPE=:
GEO:37.571879;-77.45361
X-APPLE-STRUCTURED-LOCATION;VALUE=URI;X-ADDRESS=Richmond Waldorf School 1301 Robin Hood Road Richmond VA 23227 United States;X-APPLE-RADIUS=500;X-TITLE=1301 Robin Hood Road:geo:-77.45361,37.571879
END:VEVENT
BEGIN:VEVENT
DTSTART;TZID=America/New_York:20251029T150000
DTEND;TZID=America/New_York:20251029T170000
DTSTAMP:20260421T213157
CREATED:20250828T142931Z
LAST-MODIFIED:20250828T142931Z
UID:10003065-1761750000-1761757200@richmondwaldorf.com
SUMMARY:Soccer Practice
DESCRIPTION:
URL:https://richmondwaldorf.com/event/soccer-practice-17/2025-10-29/
LOCATION:Richmond Waldorf School\, 1301 Robin Hood Road\, Richmond\, VA\, 23227\, United States
CATEGORIES:Athletics
ATTACH;FMTTYPE=:
GEO:37.571879;-77.45361
X-APPLE-STRUCTURED-LOCATION;VALUE=URI;X-ADDRESS=Richmond Waldorf School 1301 Robin Hood Road Richmond VA 23227 United States;X-APPLE-RADIUS=500;X-TITLE=1301 Robin Hood Road:geo:-77.45361,37.571879
END:VEVENT
BEGIN:VEVENT
DTSTART;TZID=America/New_York:20251030T080000
DTEND;TZID=America/New_York:20251030T170000
DTSTAMP:20260421T213157
CREATED:20250226T141220Z
LAST-MODIFIED:20250226T141255Z
UID:10002929-1761811200-1761843600@richmondwaldorf.com
SUMMARY:No Classes - Parent Teacher Conferences
DESCRIPTION:
URL:https://richmondwaldorf.com/event/no-classes-parent-teacher-conferences/2025-10-30/
LOCATION:Richmond Waldorf School\, 1301 Robin Hood Road\, Richmond\, VA\, 23227\, United States
ATTACH;FMTTYPE=:
GEO:37.571879;-77.45361
X-APPLE-STRUCTURED-LOCATION;VALUE=URI;X-ADDRESS=Richmond Waldorf School 1301 Robin Hood Road Richmond VA 23227 United States;X-APPLE-RADIUS=500;X-TITLE=1301 Robin Hood Road:geo:-77.45361,37.571879
END:VEVENT
BEGIN:VEVENT
DTSTART;TZID=America/New_York:20251031T080000
DTEND;TZID=America/New_York:20251031T170000
DTSTAMP:20260421T213157
CREATED:20250226T141220Z
LAST-MODIFIED:20250226T141255Z
UID:10002930-1761897600-1761930000@richmondwaldorf.com
SUMMARY:No Classes - Parent Teacher Conferences
DESCRIPTION:
URL:https://richmondwaldorf.com/event/no-classes-parent-teacher-conferences/2025-10-31/
LOCATION:Richmond Waldorf School\, 1301 Robin Hood Road\, Richmond\, VA\, 23227\, United States
ATTACH;FMTTYPE=:
GEO:37.571879;-77.45361
X-APPLE-STRUCTURED-LOCATION;VALUE=URI;X-ADDRESS=Richmond Waldorf School 1301 Robin Hood Road Richmond VA 23227 United States;X-APPLE-RADIUS=500;X-TITLE=1301 Robin Hood Road:geo:-77.45361,37.571879
END:VEVENT
END:VCALENDAR