BEGIN:VCALENDAR
VERSION:2.0
PRODID:-//Richmond Waldorf School - ECPv6.15.20//NONSGML v1.0//EN
CALSCALE:GREGORIAN
METHOD:PUBLISH
X-WR-CALNAME:Richmond Waldorf School
X-ORIGINAL-URL:https://richmondwaldorf.com
X-WR-CALDESC:Events for Richmond Waldorf School
REFRESH-INTERVAL;VALUE=DURATION:PT1H
X-Robots-Tag:noindex
X-PUBLISHED-TTL:PT1H
BEGIN:VTIMEZONE
TZID:America/New_York
BEGIN:DAYLIGHT
TZOFFSETFROM:-0500
TZOFFSETTO:-0400
TZNAME:EDT
DTSTART:20210314T070000
END:DAYLIGHT
BEGIN:STANDARD
TZOFFSETFROM:-0400
TZOFFSETTO:-0500
TZNAME:EST
DTSTART:20211107T060000
END:STANDARD
BEGIN:DAYLIGHT
TZOFFSETFROM:-0500
TZOFFSETTO:-0400
TZNAME:EDT
DTSTART:20220313T070000
END:DAYLIGHT
BEGIN:STANDARD
TZOFFSETFROM:-0400
TZOFFSETTO:-0500
TZNAME:EST
DTSTART:20221106T060000
END:STANDARD
BEGIN:DAYLIGHT
TZOFFSETFROM:-0500
TZOFFSETTO:-0400
TZNAME:EDT
DTSTART:20230312T070000
END:DAYLIGHT
BEGIN:STANDARD
TZOFFSETFROM:-0400
TZOFFSETTO:-0500
TZNAME:EST
DTSTART:20231105T060000
END:STANDARD
BEGIN:DAYLIGHT
TZOFFSETFROM:-0500
TZOFFSETTO:-0400
TZNAME:EDT
DTSTART:20240310T070000
END:DAYLIGHT
BEGIN:STANDARD
TZOFFSETFROM:-0400
TZOFFSETTO:-0500
TZNAME:EST
DTSTART:20241103T060000
END:STANDARD
BEGIN:DAYLIGHT
TZOFFSETFROM:-0500
TZOFFSETTO:-0400
TZNAME:EDT
DTSTART:20250309T070000
END:DAYLIGHT
BEGIN:STANDARD
TZOFFSETFROM:-0400
TZOFFSETTO:-0500
TZNAME:EST
DTSTART:20251102T060000
END:STANDARD
END:VTIMEZONE
BEGIN:VEVENT
DTSTART;TZID=America/New_York:20240517T160000
DTEND;TZID=America/New_York:20240517T173000
DTSTAMP:20260422T201240
CREATED:20240311T131253Z
LAST-MODIFIED:20240311T131303Z
UID:10002584-1715961600-1715967000@richmondwaldorf.com
SUMMARY:Soccer Game
DESCRIPTION:4 pm vs. RMS at Sabot.
URL:https://richmondwaldorf.com/event/soccer-game-6/
LOCATION:Sabot at Stony Point\, 3400 Stony Point Road\, Richmond\, VA\, 23235\, United States
CATEGORIES:Athletics
ATTACH;FMTTYPE=:
GEO:37.5464564;-77.5690526
X-APPLE-STRUCTURED-LOCATION;VALUE=URI;X-ADDRESS=Sabot at Stony Point 3400 Stony Point Road Richmond VA 23235 United States;X-APPLE-RADIUS=500;X-TITLE=3400 Stony Point Road:geo:-77.5690526,37.5464564
END:VEVENT
BEGIN:VEVENT
DTSTART;TZID=America/New_York:20240503T171500
DTEND;TZID=America/New_York:20240503T183000
DTSTAMP:20260422T201240
CREATED:20240311T131208Z
LAST-MODIFIED:20240311T131208Z
UID:10002583-1714756500-1714761000@richmondwaldorf.com
SUMMARY:Soccer Game
DESCRIPTION:5:15 pm vs. RMS at Sabot.
URL:https://richmondwaldorf.com/event/soccer-game-5/
LOCATION:Sabot at Stony Point\, 3400 Stony Point Road\, Richmond\, VA\, 23235\, United States
CATEGORIES:Athletics
ATTACH;FMTTYPE=:
GEO:37.5464564;-77.5690526
X-APPLE-STRUCTURED-LOCATION;VALUE=URI;X-ADDRESS=Sabot at Stony Point 3400 Stony Point Road Richmond VA 23235 United States;X-APPLE-RADIUS=500;X-TITLE=3400 Stony Point Road:geo:-77.5690526,37.5464564
END:VEVENT
BEGIN:VEVENT
DTSTART;TZID=America/New_York:20240426T171500
DTEND;TZID=America/New_York:20240426T183000
DTSTAMP:20260422T201240
CREATED:20240311T131058Z
LAST-MODIFIED:20240311T131058Z
UID:10002582-1714151700-1714156200@richmondwaldorf.com
SUMMARY:Soccer Game
DESCRIPTION:5:15 vs. Anna Julia Cooper at Sabot.
URL:https://richmondwaldorf.com/event/soccer-game-4/
LOCATION:Sabot at Stony Point\, 3400 Stony Point Road\, Richmond\, VA\, 23235\, United States
CATEGORIES:Athletics
ATTACH;FMTTYPE=:
GEO:37.5464564;-77.5690526
X-APPLE-STRUCTURED-LOCATION;VALUE=URI;X-ADDRESS=Sabot at Stony Point 3400 Stony Point Road Richmond VA 23235 United States;X-APPLE-RADIUS=500;X-TITLE=3400 Stony Point Road:geo:-77.5690526,37.5464564
END:VEVENT
BEGIN:VEVENT
DTSTART;TZID=America/New_York:20240412T160000
DTEND;TZID=America/New_York:20240412T173000
DTSTAMP:20260422T201240
CREATED:20240311T130834Z
LAST-MODIFIED:20240311T130850Z
UID:10002580-1712937600-1712943000@richmondwaldorf.com
SUMMARY:Soccer Game
DESCRIPTION:4 pm vs. Sabot at Sabot.
URL:https://richmondwaldorf.com/event/soccer-game-2/
LOCATION:Sabot at Stony Point\, 3400 Stony Point Road\, Richmond\, VA\, 23235\, United States
CATEGORIES:Athletics
ATTACH;FMTTYPE=:
GEO:37.5464564;-77.5690526
X-APPLE-STRUCTURED-LOCATION;VALUE=URI;X-ADDRESS=Sabot at Stony Point 3400 Stony Point Road Richmond VA 23235 United States;X-APPLE-RADIUS=500;X-TITLE=3400 Stony Point Road:geo:-77.5690526,37.5464564
END:VEVENT
BEGIN:VEVENT
DTSTART;TZID=America/New_York:20240329T160000
DTEND;TZID=America/New_York:20240329T173000
DTSTAMP:20260422T201240
CREATED:20240311T130720Z
LAST-MODIFIED:20240311T130742Z
UID:10002579-1711728000-1711733400@richmondwaldorf.com
SUMMARY:Soccer Game
DESCRIPTION:4 pm vs. Seven Hills at Sabot.
URL:https://richmondwaldorf.com/event/soccer-game/
LOCATION:Sabot at Stony Point\, 3400 Stony Point Road\, Richmond\, VA\, 23235\, United States
CATEGORIES:Athletics
ATTACH;FMTTYPE=:
GEO:37.5464564;-77.5690526
X-APPLE-STRUCTURED-LOCATION;VALUE=URI;X-ADDRESS=Sabot at Stony Point 3400 Stony Point Road Richmond VA 23235 United States;X-APPLE-RADIUS=500;X-TITLE=3400 Stony Point Road:geo:-77.5690526,37.5464564
END:VEVENT
BEGIN:VEVENT
DTSTART;TZID=America/New_York:20231027T160000
DTEND;TZID=America/New_York:20231027T173000
DTSTAMP:20260422T201240
CREATED:20230825T170843Z
LAST-MODIFIED:20230825T170843Z
UID:10002135-1698422400-1698427800@richmondwaldorf.com
SUMMARY:Soccer Game vs Sabot
DESCRIPTION:
URL:https://richmondwaldorf.com/event/soccer-game-vs-sabot-3/
LOCATION:Sabot at Stony Point\, 3400 Stony Point Road\, Richmond\, VA\, 23235\, United States
CATEGORIES:Athletics
ATTACH;FMTTYPE=:
GEO:37.5464564;-77.5690526
X-APPLE-STRUCTURED-LOCATION;VALUE=URI;X-ADDRESS=Sabot at Stony Point 3400 Stony Point Road Richmond VA 23235 United States;X-APPLE-RADIUS=500;X-TITLE=3400 Stony Point Road:geo:-77.5690526,37.5464564
END:VEVENT
BEGIN:VEVENT
DTSTART;TZID=America/New_York:20231020T171500
DTEND;TZID=America/New_York:20231020T183000
DTSTAMP:20260422T201240
CREATED:20230825T170755Z
LAST-MODIFIED:20230825T170937Z
UID:10002134-1697822100-1697826600@richmondwaldorf.com
SUMMARY:Soccer Game vs. Richmond Montessori
DESCRIPTION:
URL:https://richmondwaldorf.com/event/soccer-game-vs-richmond-montessori-2/
LOCATION:Sabot at Stony Point\, 3400 Stony Point Road\, Richmond\, VA\, 23235\, United States
CATEGORIES:Athletics
ATTACH;FMTTYPE=:
GEO:37.5464564;-77.5690526
X-APPLE-STRUCTURED-LOCATION;VALUE=URI;X-ADDRESS=Sabot at Stony Point 3400 Stony Point Road Richmond VA 23235 United States;X-APPLE-RADIUS=500;X-TITLE=3400 Stony Point Road:geo:-77.5690526,37.5464564
END:VEVENT
BEGIN:VEVENT
DTSTART;TZID=America/New_York:20231013T171500
DTEND;TZID=America/New_York:20231013T183000
DTSTAMP:20260422T201240
CREATED:20230825T170642Z
LAST-MODIFIED:20230825T170642Z
UID:10002133-1697217300-1697221800@richmondwaldorf.com
SUMMARY:Soccer Game vs. St. Michael's
DESCRIPTION:
URL:https://richmondwaldorf.com/event/soccer-game-vs-st-michaels/
LOCATION:Sabot at Stony Point\, 3400 Stony Point Road\, Richmond\, VA\, 23235\, United States
CATEGORIES:Athletics
ATTACH;FMTTYPE=:
GEO:37.5464564;-77.5690526
X-APPLE-STRUCTURED-LOCATION;VALUE=URI;X-ADDRESS=Sabot at Stony Point 3400 Stony Point Road Richmond VA 23235 United States;X-APPLE-RADIUS=500;X-TITLE=3400 Stony Point Road:geo:-77.5690526,37.5464564
END:VEVENT
BEGIN:VEVENT
DTSTART;TZID=America/New_York:20231006T171500
DTEND;TZID=America/New_York:20231006T183000
DTSTAMP:20260422T201240
CREATED:20230825T170535Z
LAST-MODIFIED:20230825T170550Z
UID:10002132-1696612500-1696617000@richmondwaldorf.com
SUMMARY:Soccer Game vs. Veritas
DESCRIPTION:
URL:https://richmondwaldorf.com/event/soccer-game-vs-veritas-3/
LOCATION:Sabot at Stony Point\, 3400 Stony Point Road\, Richmond\, VA\, 23235\, United States
CATEGORIES:Athletics
ATTACH;FMTTYPE=:
GEO:37.5464564;-77.5690526
X-APPLE-STRUCTURED-LOCATION;VALUE=URI;X-ADDRESS=Sabot at Stony Point 3400 Stony Point Road Richmond VA 23235 United States;X-APPLE-RADIUS=500;X-TITLE=3400 Stony Point Road:geo:-77.5690526,37.5464564
END:VEVENT
BEGIN:VEVENT
DTSTART;TZID=America/New_York:20230915T160000
DTEND;TZID=America/New_York:20230915T173000
DTSTAMP:20260422T201240
CREATED:20230825T170349Z
LAST-MODIFIED:20230825T170349Z
UID:10002130-1694793600-1694799000@richmondwaldorf.com
SUMMARY:Soccer Game vs. Seven Hills
DESCRIPTION:
URL:https://richmondwaldorf.com/event/soccer-game-vs-seven-hills/
LOCATION:Sabot at Stony Point\, 3400 Stony Point Road\, Richmond\, VA\, 23235\, United States
CATEGORIES:Athletics
ATTACH;FMTTYPE=:
GEO:37.5464564;-77.5690526
X-APPLE-STRUCTURED-LOCATION;VALUE=URI;X-ADDRESS=Sabot at Stony Point 3400 Stony Point Road Richmond VA 23235 United States;X-APPLE-RADIUS=500;X-TITLE=3400 Stony Point Road:geo:-77.5690526,37.5464564
END:VEVENT
BEGIN:VEVENT
DTSTART;TZID=America/New_York:20230519T170000
DTEND;TZID=America/New_York:20230519T180000
DTSTAMP:20260422T201240
CREATED:20230221T163515Z
LAST-MODIFIED:20230221T163515Z
UID:10001929-1684515600-1684519200@richmondwaldorf.com
SUMMARY:Soccer Game vs Seven Hills
DESCRIPTION:
URL:https://richmondwaldorf.com/event/soccer-game-vs-seven-hills-2/
LOCATION:Sabot at Stony Point\, 3400 Stony Point Road\, Richmond\, VA\, 23235\, United States
ATTACH;FMTTYPE=:
GEO:37.5464564;-77.5690526
X-APPLE-STRUCTURED-LOCATION;VALUE=URI;X-ADDRESS=Sabot at Stony Point 3400 Stony Point Road Richmond VA 23235 United States;X-APPLE-RADIUS=500;X-TITLE=3400 Stony Point Road:geo:-77.5690526,37.5464564
END:VEVENT
BEGIN:VEVENT
DTSTART;TZID=America/New_York:20230512T163000
DTEND;TZID=America/New_York:20230512T173000
DTSTAMP:20260422T201240
CREATED:20230221T163346Z
LAST-MODIFIED:20230221T163952Z
UID:10001928-1683909000-1683912600@richmondwaldorf.com
SUMMARY:Soccer Game vs New Community
DESCRIPTION:
URL:https://richmondwaldorf.com/event/soccer-game-vs-new-community/
LOCATION:Sabot at Stony Point\, 3400 Stony Point Road\, Richmond\, VA\, 23235\, United States
CATEGORIES:Athletics
ATTACH;FMTTYPE=:
GEO:37.5464564;-77.5690526
X-APPLE-STRUCTURED-LOCATION;VALUE=URI;X-ADDRESS=Sabot at Stony Point 3400 Stony Point Road Richmond VA 23235 United States;X-APPLE-RADIUS=500;X-TITLE=3400 Stony Point Road:geo:-77.5690526,37.5464564
END:VEVENT
BEGIN:VEVENT
DTSTART;TZID=America/New_York:20230505T170000
DTEND;TZID=America/New_York:20230505T180000
DTSTAMP:20260422T201240
CREATED:20230221T163250Z
LAST-MODIFIED:20230221T163250Z
UID:10001927-1683306000-1683309600@richmondwaldorf.com
SUMMARY:Soccer Game vs AJC
DESCRIPTION:
URL:https://richmondwaldorf.com/event/soccer-game-vs-ajc-2/
LOCATION:Sabot at Stony Point\, 3400 Stony Point Road\, Richmond\, VA\, 23235\, United States
ATTACH;FMTTYPE=:
GEO:37.5464564;-77.5690526
X-APPLE-STRUCTURED-LOCATION;VALUE=URI;X-ADDRESS=Sabot at Stony Point 3400 Stony Point Road Richmond VA 23235 United States;X-APPLE-RADIUS=500;X-TITLE=3400 Stony Point Road:geo:-77.5690526,37.5464564
END:VEVENT
BEGIN:VEVENT
DTSTART;TZID=America/New_York:20230421T170000
DTEND;TZID=America/New_York:20230421T180000
DTSTAMP:20260422T201240
CREATED:20230221T163023Z
LAST-MODIFIED:20230221T163023Z
UID:10001925-1682096400-1682100000@richmondwaldorf.com
SUMMARY:Soccer Game vs RMS
DESCRIPTION:
URL:https://richmondwaldorf.com/event/soccer-game-vs-rms-2/
LOCATION:Sabot at Stony Point\, 3400 Stony Point Road\, Richmond\, VA\, 23235\, United States
ATTACH;FMTTYPE=:
GEO:37.5464564;-77.5690526
X-APPLE-STRUCTURED-LOCATION;VALUE=URI;X-ADDRESS=Sabot at Stony Point 3400 Stony Point Road Richmond VA 23235 United States;X-APPLE-RADIUS=500;X-TITLE=3400 Stony Point Road:geo:-77.5690526,37.5464564
END:VEVENT
BEGIN:VEVENT
DTSTART;TZID=America/New_York:20230414T160000
DTEND;TZID=America/New_York:20230414T170000
DTSTAMP:20260422T201240
CREATED:20230221T162835Z
LAST-MODIFIED:20230221T162835Z
UID:10001924-1681488000-1681491600@richmondwaldorf.com
SUMMARY:Soccer Game vs AJC
DESCRIPTION:
URL:https://richmondwaldorf.com/event/soccer-game-vs-ajc/
LOCATION:Sabot at Stony Point\, 3400 Stony Point Road\, Richmond\, VA\, 23235\, United States
ATTACH;FMTTYPE=:
GEO:37.5464564;-77.5690526
X-APPLE-STRUCTURED-LOCATION;VALUE=URI;X-ADDRESS=Sabot at Stony Point 3400 Stony Point Road Richmond VA 23235 United States;X-APPLE-RADIUS=500;X-TITLE=3400 Stony Point Road:geo:-77.5690526,37.5464564
END:VEVENT
BEGIN:VEVENT
DTSTART;TZID=America/New_York:20230324T160000
DTEND;TZID=America/New_York:20230324T170000
DTSTAMP:20260422T201240
CREATED:20230221T162748Z
LAST-MODIFIED:20230221T162748Z
UID:10001923-1679673600-1679677200@richmondwaldorf.com
SUMMARY:Soccer Game vs RMS
DESCRIPTION:
URL:https://richmondwaldorf.com/event/soccer-game-vs-rms/
LOCATION:Sabot at Stony Point\, 3400 Stony Point Road\, Richmond\, VA\, 23235\, United States
CATEGORIES:Athletics
ATTACH;FMTTYPE=:
GEO:37.5464564;-77.5690526
X-APPLE-STRUCTURED-LOCATION;VALUE=URI;X-ADDRESS=Sabot at Stony Point 3400 Stony Point Road Richmond VA 23235 United States;X-APPLE-RADIUS=500;X-TITLE=3400 Stony Point Road:geo:-77.5690526,37.5464564
END:VEVENT
BEGIN:VEVENT
DTSTART;TZID=America/New_York:20221104T170000
DTEND;TZID=America/New_York:20221104T180000
DTSTAMP:20260422T201240
CREATED:20220915T151950Z
LAST-MODIFIED:20220919T133214Z
UID:10001638-1667581200-1667584800@richmondwaldorf.com
SUMMARY:Soccer Game vs Richmond Montessori
DESCRIPTION:
URL:https://richmondwaldorf.com/event/soccer-game-vs-richmond-montessori/
LOCATION:Sabot at Stony Point\, 3400 Stony Point Road\, Richmond\, VA\, 23235\, United States
CATEGORIES:Athletics
ATTACH;FMTTYPE=:
GEO:37.5464564;-77.5690526
X-APPLE-STRUCTURED-LOCATION;VALUE=URI;X-ADDRESS=Sabot at Stony Point 3400 Stony Point Road Richmond VA 23235 United States;X-APPLE-RADIUS=500;X-TITLE=3400 Stony Point Road:geo:-77.5690526,37.5464564
END:VEVENT
BEGIN:VEVENT
DTSTART;TZID=America/New_York:20221028T170000
DTEND;TZID=America/New_York:20221028T180000
DTSTAMP:20260422T201241
CREATED:20220915T151516Z
LAST-MODIFIED:20220915T151516Z
UID:10001637-1666976400-1666980000@richmondwaldorf.com
SUMMARY:Soccer Game vs Veritas
DESCRIPTION:
URL:https://richmondwaldorf.com/event/soccer-game-vs-veritas-2/
LOCATION:Sabot at Stony Point\, 3400 Stony Point Road\, Richmond\, VA\, 23235\, United States
CATEGORIES:Athletics
ATTACH;FMTTYPE=:
GEO:37.5464564;-77.5690526
X-APPLE-STRUCTURED-LOCATION;VALUE=URI;X-ADDRESS=Sabot at Stony Point 3400 Stony Point Road Richmond VA 23235 United States;X-APPLE-RADIUS=500;X-TITLE=3400 Stony Point Road:geo:-77.5690526,37.5464564
END:VEVENT
BEGIN:VEVENT
DTSTART;TZID=America/New_York:20221021T170000
DTEND;TZID=America/New_York:20221021T180000
DTSTAMP:20260422T201241
CREATED:20220915T150733Z
LAST-MODIFIED:20220919T134114Z
UID:10001635-1666371600-1666375200@richmondwaldorf.com
SUMMARY:Soccer Game vs Sabot
DESCRIPTION:
URL:https://richmondwaldorf.com/event/soccer-game-vs-sabot-2/
LOCATION:Sabot at Stony Point\, 3400 Stony Point Road\, Richmond\, VA\, 23235\, United States
CATEGORIES:Athletics
ATTACH;FMTTYPE=:
GEO:37.5464564;-77.5690526
X-APPLE-STRUCTURED-LOCATION;VALUE=URI;X-ADDRESS=Sabot at Stony Point 3400 Stony Point Road Richmond VA 23235 United States;X-APPLE-RADIUS=500;X-TITLE=3400 Stony Point Road:geo:-77.5690526,37.5464564
END:VEVENT
BEGIN:VEVENT
DTSTART;TZID=America/New_York:20221014T160000
DTEND;TZID=America/New_York:20221014T170000
DTSTAMP:20260422T201241
CREATED:20220915T150517Z
LAST-MODIFIED:20220919T134026Z
UID:10001634-1665763200-1665766800@richmondwaldorf.com
SUMMARY:Soccer Game vs Veritas
DESCRIPTION:
URL:https://richmondwaldorf.com/event/soccer-game-vs-veritas/
LOCATION:Sabot at Stony Point\, 3400 Stony Point Road\, Richmond\, VA\, 23235\, United States
CATEGORIES:Athletics
ATTACH;FMTTYPE=:
GEO:37.5464564;-77.5690526
X-APPLE-STRUCTURED-LOCATION;VALUE=URI;X-ADDRESS=Sabot at Stony Point 3400 Stony Point Road Richmond VA 23235 United States;X-APPLE-RADIUS=500;X-TITLE=3400 Stony Point Road:geo:-77.5690526,37.5464564
END:VEVENT
BEGIN:VEVENT
DTSTART;TZID=America/New_York:20221007T160000
DTEND;TZID=America/New_York:20221007T170000
DTSTAMP:20260422T201241
CREATED:20220915T150246Z
LAST-MODIFIED:20220919T133855Z
UID:10001633-1665158400-1665162000@richmondwaldorf.com
SUMMARY:Soccer Game vs Richmond Montessori School
DESCRIPTION:
URL:https://richmondwaldorf.com/event/soccer-game-vs-richmond-montessori-school/
LOCATION:Sabot at Stony Point\, 3400 Stony Point Road\, Richmond\, VA\, 23235\, United States
CATEGORIES:Athletics
ATTACH;FMTTYPE=:
GEO:37.5464564;-77.5690526
X-APPLE-STRUCTURED-LOCATION;VALUE=URI;X-ADDRESS=Sabot at Stony Point 3400 Stony Point Road Richmond VA 23235 United States;X-APPLE-RADIUS=500;X-TITLE=3400 Stony Point Road:geo:-77.5690526,37.5464564
END:VEVENT
BEGIN:VEVENT
DTSTART;TZID=America/New_York:20220923T170000
DTEND;TZID=America/New_York:20220923T180000
DTSTAMP:20260422T201241
CREATED:20220915T090014Z
LAST-MODIFIED:20220919T133603Z
UID:10001632-1663952400-1663956000@richmondwaldorf.com
SUMMARY:Soccer Game vs Sabot
DESCRIPTION:
URL:https://richmondwaldorf.com/event/soccer-game-vs-sabot/
LOCATION:Sabot at Stony Point\, 3400 Stony Point Road\, Richmond\, VA\, 23235\, United States
CATEGORIES:Athletics
ATTACH;FMTTYPE=:
GEO:37.5464564;-77.5690526
X-APPLE-STRUCTURED-LOCATION;VALUE=URI;X-ADDRESS=Sabot at Stony Point 3400 Stony Point Road Richmond VA 23235 United States;X-APPLE-RADIUS=500;X-TITLE=3400 Stony Point Road:geo:-77.5690526,37.5464564
END:VEVENT
END:VCALENDAR